BEGIN:VCALENDAR
VERSION:2.0
PRODID:-//Anchor Boat Club - ECPv6.15.19//NONSGML v1.0//EN
CALSCALE:GREGORIAN
METHOD:PUBLISH
X-WR-CALNAME:Anchor Boat Club
X-ORIGINAL-URL:https://anchorboatclub.net
X-WR-CALDESC:Events for Anchor Boat Club
REFRESH-INTERVAL;VALUE=DURATION:PT1H
X-Robots-Tag:noindex
X-PUBLISHED-TTL:PT1H
BEGIN:VTIMEZONE
TZID:America/Chicago
BEGIN:DAYLIGHT
TZOFFSETFROM:-0600
TZOFFSETTO:-0500
TZNAME:CDT
DTSTART:20240310T080000
END:DAYLIGHT
BEGIN:STANDARD
TZOFFSETFROM:-0500
TZOFFSETTO:-0600
TZNAME:CST
DTSTART:20241103T070000
END:STANDARD
BEGIN:DAYLIGHT
TZOFFSETFROM:-0600
TZOFFSETTO:-0500
TZNAME:CDT
DTSTART:20250309T080000
END:DAYLIGHT
BEGIN:STANDARD
TZOFFSETFROM:-0500
TZOFFSETTO:-0600
TZNAME:CST
DTSTART:20251102T070000
END:STANDARD
BEGIN:DAYLIGHT
TZOFFSETFROM:-0600
TZOFFSETTO:-0500
TZNAME:CDT
DTSTART:20260308T080000
END:DAYLIGHT
BEGIN:STANDARD
TZOFFSETFROM:-0500
TZOFFSETTO:-0600
TZNAME:CST
DTSTART:20261101T070000
END:STANDARD
END:VTIMEZONE
BEGIN:VEVENT
DTSTART;TZID=America/Chicago:20250301T110000
DTEND;TZID=America/Chicago:20250301T160000
DTSTAMP:20260424T062944
CREATED:20250108T163703Z
LAST-MODIFIED:20250122T162717Z
UID:6515-1740826800-1740844800@anchorboatclub.net
SUMMARY:Indoor Bags Tournament
DESCRIPTION:$10/person. Draw your partner. Double Elimination Tournament. Registration starts at 11:00am; partner draw at 12:00pm. 1st game starts immediately after draw.\n\n100% of entry fees will be paid as follows:1st place – 60%2nd place – 30%3rd place – 10%\n\nFood & drink specials available!
URL:https://anchorboatclub.net/event/bags-tournament/
LOCATION:Anchor Boat Club\, 407 East Lake Drive\, Springfield\, IL\, 62712\, United States
END:VEVENT
BEGIN:VEVENT
DTSTART;TZID=America/Chicago:20250304T190000
DTEND;TZID=America/Chicago:20250304T200000
DTSTAMP:20260424T062944
CREATED:20250130T042851Z
LAST-MODIFIED:20250130T042851Z
UID:6544-1741114800-1741118400@anchorboatclub.net
SUMMARY:Membership Meeting
DESCRIPTION:
URL:https://anchorboatclub.net/event/membership-meeting-4/
LOCATION:Anchor Boat Club\, 407 East Lake Drive\, Springfield\, IL\, 62712\, United States
END:VEVENT
BEGIN:VEVENT
DTSTART;TZID=America/Chicago:20250307T173000
DTEND;TZID=America/Chicago:20250307T200000
DTSTAMP:20260424T062944
CREATED:20250130T042016Z
LAST-MODIFIED:20250130T042016Z
UID:6529-1741368600-1741377600@anchorboatclub.net
SUMMARY:ABC Fish Fry
DESCRIPTION:
URL:https://anchorboatclub.net/event/abc-fish-fry/
LOCATION:Anchor Boat Club\, 407 East Lake Drive\, Springfield\, IL\, 62712\, United States
END:VEVENT
BEGIN:VEVENT
DTSTART;TZID=America/Chicago:20250314T173000
DTEND;TZID=America/Chicago:20250314T200000
DTSTAMP:20260424T062944
CREATED:20250130T042119Z
LAST-MODIFIED:20250130T042119Z
UID:6531-1741973400-1741982400@anchorboatclub.net
SUMMARY:ABC Fish Fry
DESCRIPTION:
URL:https://anchorboatclub.net/event/abc-fish-fry-2/
LOCATION:Anchor Boat Club\, 407 East Lake Drive\, Springfield\, IL\, 62712\, United States
END:VEVENT
BEGIN:VEVENT
DTSTART;TZID=America/Chicago:20250321T173000
DTEND;TZID=America/Chicago:20250321T200000
DTSTAMP:20260424T062944
CREATED:20250130T042210Z
LAST-MODIFIED:20250130T042210Z
UID:6533-1742578200-1742587200@anchorboatclub.net
SUMMARY:ABC Fish Fry
DESCRIPTION:
URL:https://anchorboatclub.net/event/abc-fish-fry-3/
LOCATION:Anchor Boat Club\, 407 East Lake Drive\, Springfield\, IL\, 62712\, United States
END:VEVENT
BEGIN:VEVENT
DTSTART;TZID=America/Chicago:20250328T173000
DTEND;TZID=America/Chicago:20250328T200000
DTSTAMP:20260424T062944
CREATED:20250130T042256Z
LAST-MODIFIED:20250130T042256Z
UID:6535-1743183000-1743192000@anchorboatclub.net
SUMMARY:ABC Fish Fry
DESCRIPTION:
URL:https://anchorboatclub.net/event/abc-fish-fry-4/
LOCATION:Anchor Boat Club\, 407 East Lake Drive\, Springfield\, IL\, 62712\, United States
END:VEVENT
END:VCALENDAR