BEGIN:VCALENDAR
VERSION:2.0
PRODID:-//Anchor Boat Club - ECPv6.15.19//NONSGML v1.0//EN
CALSCALE:GREGORIAN
METHOD:PUBLISH
X-ORIGINAL-URL:https://anchorboatclub.net
X-WR-CALDESC:Events for Anchor Boat Club
REFRESH-INTERVAL;VALUE=DURATION:PT1H
X-Robots-Tag:noindex
X-PUBLISHED-TTL:PT1H
BEGIN:VTIMEZONE
TZID:America/Chicago
BEGIN:DAYLIGHT
TZOFFSETFROM:-0600
TZOFFSETTO:-0500
TZNAME:CDT
DTSTART:20230312T080000
END:DAYLIGHT
BEGIN:STANDARD
TZOFFSETFROM:-0500
TZOFFSETTO:-0600
TZNAME:CST
DTSTART:20231105T070000
END:STANDARD
BEGIN:DAYLIGHT
TZOFFSETFROM:-0600
TZOFFSETTO:-0500
TZNAME:CDT
DTSTART:20240310T080000
END:DAYLIGHT
BEGIN:STANDARD
TZOFFSETFROM:-0500
TZOFFSETTO:-0600
TZNAME:CST
DTSTART:20241103T070000
END:STANDARD
BEGIN:DAYLIGHT
TZOFFSETFROM:-0600
TZOFFSETTO:-0500
TZNAME:CDT
DTSTART:20250309T080000
END:DAYLIGHT
BEGIN:STANDARD
TZOFFSETFROM:-0500
TZOFFSETTO:-0600
TZNAME:CST
DTSTART:20251102T070000
END:STANDARD
END:VTIMEZONE
BEGIN:VEVENT
DTSTART;TZID=America/Chicago:20240204T120000
DTEND;TZID=America/Chicago:20240204T170000
DTSTAMP:20260425T073330
CREATED:20240129T000722Z
LAST-MODIFIED:20240129T000722Z
UID:6166-1707048000-1707066000@anchorboatclub.net
SUMMARY:West Regional Lake Chili Challenge
DESCRIPTION:This event will be held at the Springfield Motorboard Club.
URL:https://anchorboatclub.net/event/west-regional-lake-chili-challenge/
LOCATION:Springfield Motor Boat Club\, 17 Club Area\, Springfield\, IL\, 62712\, United States
END:VEVENT
BEGIN:VEVENT
DTSTART;TZID=America/Chicago:20240206T190000
DTEND;TZID=America/Chicago:20240206T200000
DTSTAMP:20260425T073330
CREATED:20231207T043918Z
LAST-MODIFIED:20231207T043918Z
UID:6155-1707246000-1707249600@anchorboatclub.net
SUMMARY:February 2024 Membership Meeting
DESCRIPTION:
URL:https://anchorboatclub.net/event/february-2024-membership-meeting-2/
LOCATION:Anchor Boat Club\, 407 East Lake Drive\, Springfield\, IL\, 62712\, United States
END:VEVENT
BEGIN:VEVENT
DTSTART;VALUE=DATE:20240209
DTEND;VALUE=DATE:20240210
DTSTAMP:20260425T073330
CREATED:20231207T043119Z
LAST-MODIFIED:20231207T043119Z
UID:6140-1707436800-1707523199@anchorboatclub.net
SUMMARY:Murder Mystery Dinner Theater
DESCRIPTION:
URL:https://anchorboatclub.net/event/murder-mystery-dinner-theater/
LOCATION:Anchor Boat Club\, 407 East Lake Drive\, Springfield\, IL\, 62712\, United States
END:VEVENT
BEGIN:VEVENT
DTSTART;VALUE=DATE:20240210
DTEND;VALUE=DATE:20240211
DTSTAMP:20260425T073330
CREATED:20231207T043150Z
LAST-MODIFIED:20231207T043150Z
UID:6142-1707523200-1707609599@anchorboatclub.net
SUMMARY:Murder Mystery Dinner Theater
DESCRIPTION:
URL:https://anchorboatclub.net/event/murder-mystery-dinner-theater-2/
LOCATION:Anchor Boat Club\, 407 East Lake Drive\, Springfield\, IL\, 62712\, United States
END:VEVENT
BEGIN:VEVENT
DTSTART;TZID=America/Chicago:20240211T160000
DTEND;TZID=America/Chicago:20240211T210000
DTSTAMP:20260425T073330
CREATED:20240129T010240Z
LAST-MODIFIED:20240129T010240Z
UID:6177-1707667200-1707685200@anchorboatclub.net
SUMMARY:Super Bowl Party
DESCRIPTION:It wouldn’t be the Anchor Boat Party without a good football party!  No formal plans have been set in place yet but we’ll make sure the frigs are full!  Bring a dish to share to with others. \nCome out to watch the game\, enjoy the half-time show\, and laugh at the commercials!
URL:https://anchorboatclub.net/event/super-bowl-party/
LOCATION:Anchor Boat Club\, 407 East Lake Drive\, Springfield\, IL\, 62712\, United States
END:VEVENT
BEGIN:VEVENT
DTSTART;TZID=America/Chicago:20240216T173000
DTEND;TZID=America/Chicago:20240216T193000
DTSTAMP:20260425T073330
CREATED:20240129T001136Z
LAST-MODIFIED:20240129T001307Z
UID:6170-1708104600-1708111800@anchorboatclub.net
SUMMARY:Fish Fry at the ABC
DESCRIPTION:
URL:https://anchorboatclub.net/event/fish-fry-at-the-abc/
LOCATION:Anchor Boat Club\, 407 East Lake Drive\, Springfield\, IL\, 62712\, United States
END:VEVENT
BEGIN:VEVENT
DTSTART;TZID=America/Chicago:20240216T183000
DTEND;TZID=America/Chicago:20240216T203000
DTSTAMP:20260425T073330
CREATED:20240129T002225Z
LAST-MODIFIED:20240129T002225Z
UID:6175-1708108200-1708115400@anchorboatclub.net
SUMMARY:Queen of Hearts Drawing
DESCRIPTION:Tickets available at 6:30pm; drawing at 8:00pm.
URL:https://anchorboatclub.net/event/queen-of-hearts-drawing-9/
LOCATION:Anchor Boat Club\, 407 East Lake Drive\, Springfield\, IL\, 62712\, United States
END:VEVENT
BEGIN:VEVENT
DTSTART;TZID=America/Chicago:20240218T120000
DTEND;TZID=America/Chicago:20240218T170000
DTSTAMP:20260425T073330
CREATED:20240129T000945Z
LAST-MODIFIED:20240129T000952Z
UID:6168-1708257600-1708275600@anchorboatclub.net
SUMMARY:South Regional Lake Chili Challenge
DESCRIPTION:This event will be held at the KC Lake Club.
URL:https://anchorboatclub.net/event/south-regional-lake-chili-challenge/
LOCATION:KC Lake Club\, 141 N Lakewood Dr.\, Chatham\, IL\, 62629\, United States
END:VEVENT
BEGIN:VEVENT
DTSTART;TZID=America/Chicago:20240223T173000
DTEND;TZID=America/Chicago:20240223T193000
DTSTAMP:20260425T073330
CREATED:20240129T001410Z
LAST-MODIFIED:20240129T001410Z
UID:6172-1708709400-1708716600@anchorboatclub.net
SUMMARY:Fish Fry at the ABC
DESCRIPTION:
URL:https://anchorboatclub.net/event/fish-fry-at-the-abc-2/
LOCATION:Anchor Boat Club\, 407 East Lake Drive\, Springfield\, IL\, 62712\, United States
END:VEVENT
BEGIN:VEVENT
DTSTART;TZID=America/Chicago:20240227T190000
DTEND;TZID=America/Chicago:20240227T200000
DTSTAMP:20260425T073330
CREATED:20231207T043953Z
LAST-MODIFIED:20231207T043953Z
UID:6157-1709060400-1709064000@anchorboatclub.net
SUMMARY:February 2024 Officers Meeting
DESCRIPTION:
URL:https://anchorboatclub.net/event/february-2024-officers-meeting-2/
LOCATION:Anchor Boat Club\, 407 East Lake Drive\, Springfield\, IL\, 62712\, United States
END:VEVENT
END:VCALENDAR