BEGIN:VCALENDAR
VERSION:2.0
PRODID:-//Anchor Boat Club - ECPv6.15.19//NONSGML v1.0//EN
CALSCALE:GREGORIAN
METHOD:PUBLISH
X-WR-CALNAME:Anchor Boat Club
X-ORIGINAL-URL:https://anchorboatclub.net
X-WR-CALDESC:Events for Anchor Boat Club
REFRESH-INTERVAL;VALUE=DURATION:PT1H
X-Robots-Tag:noindex
X-PUBLISHED-TTL:PT1H
BEGIN:VTIMEZONE
TZID:America/Chicago
BEGIN:DAYLIGHT
TZOFFSETFROM:-0600
TZOFFSETTO:-0500
TZNAME:CDT
DTSTART:20220313T080000
END:DAYLIGHT
BEGIN:STANDARD
TZOFFSETFROM:-0500
TZOFFSETTO:-0600
TZNAME:CST
DTSTART:20221106T070000
END:STANDARD
BEGIN:DAYLIGHT
TZOFFSETFROM:-0600
TZOFFSETTO:-0500
TZNAME:CDT
DTSTART:20230312T080000
END:DAYLIGHT
BEGIN:STANDARD
TZOFFSETFROM:-0500
TZOFFSETTO:-0600
TZNAME:CST
DTSTART:20231105T070000
END:STANDARD
BEGIN:DAYLIGHT
TZOFFSETFROM:-0600
TZOFFSETTO:-0500
TZNAME:CDT
DTSTART:20240310T080000
END:DAYLIGHT
BEGIN:STANDARD
TZOFFSETFROM:-0500
TZOFFSETTO:-0600
TZNAME:CST
DTSTART:20241103T070000
END:STANDARD
BEGIN:DAYLIGHT
TZOFFSETFROM:-0600
TZOFFSETTO:-0500
TZNAME:CDT
DTSTART:20250309T080000
END:DAYLIGHT
BEGIN:STANDARD
TZOFFSETFROM:-0500
TZOFFSETTO:-0600
TZNAME:CST
DTSTART:20251102T070000
END:STANDARD
END:VTIMEZONE
BEGIN:VEVENT
DTSTART;TZID=America/Chicago:20231231T190000
DTEND;TZID=America/Chicago:20240101T010000
DTSTAMP:20260425T091659
CREATED:20231206T145447Z
LAST-MODIFIED:20231206T145447Z
UID:6123-1704049200-1704070800@anchorboatclub.net
SUMMARY:New Year's Eve Party
DESCRIPTION:Come out to the Club to say goodbye to 2023 and ring in the new year!  Seating limited to 48-60 people! We start the evening with a lasagna dinner starting at 7:00pm. Dinner will include lasagna\, salad\, bread\, and dessert. Tickets will be on sale at the bar beginning Friday\, December 8th. If we do not sell out to Anchor members by December 20th\, we will open tickets up to your friends. \nAt 9:00pm\, we will open the club to everyone! At that time\, we will be playing the Anchor version of “The Newlywed Game”. Prizes to the winner(s).  \nIf you have questions\, feel free to contact John Finnell at your earliest convenience.
URL:https://anchorboatclub.net/event/new-years-eve-party/
LOCATION:Anchor Boat Club\, 407 East Lake Drive\, Springfield\, IL\, 62712\, United States
END:VEVENT
BEGIN:VEVENT
DTSTART;TZID=America/Chicago:20240102T190000
DTEND;TZID=America/Chicago:20240102T200000
DTSTAMP:20260425T091659
CREATED:20231207T043304Z
LAST-MODIFIED:20231207T043304Z
UID:6144-1704222000-1704225600@anchorboatclub.net
SUMMARY:January 2024 Membership Meeting
DESCRIPTION:
URL:https://anchorboatclub.net/event/january-2024-membership-meeting/
LOCATION:Anchor Boat Club\, 407 East Lake Drive\, Springfield\, IL\, 62712\, United States
END:VEVENT
BEGIN:VEVENT
DTSTART;VALUE=DATE:20240113
DTEND;VALUE=DATE:20240114
DTSTAMP:20260425T091659
CREATED:20231207T042916Z
LAST-MODIFIED:20231207T042916Z
UID:6136-1705104000-1705190399@anchorboatclub.net
SUMMARY:Frozen Open Charity Barstool Golf 2024
DESCRIPTION:
URL:https://anchorboatclub.net/event/frozen-open-charity-barstool-golf-2024/
LOCATION:Anchor Boat Club\, 407 East Lake Drive\, Springfield\, IL\, 62712\, United States
END:VEVENT
BEGIN:VEVENT
DTSTART;VALUE=DATE:20240121
DTEND;VALUE=DATE:20240122
DTSTAMP:20260425T091659
CREATED:20231207T042618Z
LAST-MODIFIED:20231207T042618Z
UID:6132-1705795200-1705881599@anchorboatclub.net
SUMMARY:Lake Council of Clubs Chili Cookoffs - Regionals
DESCRIPTION:
URL:https://anchorboatclub.net/event/lake-council-of-clubs-chili-cookoffs-regionals/
LOCATION:Blue Ridge Club\, 411 E Lake Shore Dr\, Springfield\, IL\, 62712\, United States
END:VEVENT
BEGIN:VEVENT
DTSTART;TZID=America/Chicago:20240130T190000
DTEND;TZID=America/Chicago:20240130T200000
DTSTAMP:20260425T091659
CREATED:20231207T043412Z
LAST-MODIFIED:20231207T043437Z
UID:6146-1706641200-1706644800@anchorboatclub.net
SUMMARY:January 2024 Officers Meeting
DESCRIPTION:
URL:https://anchorboatclub.net/event/january-2024-officers-meeting/
LOCATION:Anchor Boat Club\, 407 East Lake Drive\, Springfield\, IL\, 62712\, United States
END:VEVENT
END:VCALENDAR