BEGIN:VCALENDAR
VERSION:2.0
PRODID:-//Anchor Boat Club - ECPv6.15.19//NONSGML v1.0//EN
CALSCALE:GREGORIAN
METHOD:PUBLISH
X-WR-CALNAME:Anchor Boat Club
X-ORIGINAL-URL:https://anchorboatclub.net
X-WR-CALDESC:Events for Anchor Boat Club
REFRESH-INTERVAL;VALUE=DURATION:PT1H
X-Robots-Tag:noindex
X-PUBLISHED-TTL:PT1H
BEGIN:VTIMEZONE
TZID:America/Chicago
BEGIN:DAYLIGHT
TZOFFSETFROM:-0600
TZOFFSETTO:-0500
TZNAME:CDT
DTSTART:20220313T080000
END:DAYLIGHT
BEGIN:STANDARD
TZOFFSETFROM:-0500
TZOFFSETTO:-0600
TZNAME:CST
DTSTART:20221106T070000
END:STANDARD
BEGIN:DAYLIGHT
TZOFFSETFROM:-0600
TZOFFSETTO:-0500
TZNAME:CDT
DTSTART:20230312T080000
END:DAYLIGHT
BEGIN:STANDARD
TZOFFSETFROM:-0500
TZOFFSETTO:-0600
TZNAME:CST
DTSTART:20231105T070000
END:STANDARD
BEGIN:DAYLIGHT
TZOFFSETFROM:-0600
TZOFFSETTO:-0500
TZNAME:CDT
DTSTART:20240310T080000
END:DAYLIGHT
BEGIN:STANDARD
TZOFFSETFROM:-0500
TZOFFSETTO:-0600
TZNAME:CST
DTSTART:20241103T070000
END:STANDARD
END:VTIMEZONE
BEGIN:VEVENT
DTSTART;TZID=America/Chicago:20231205T190000
DTEND;TZID=America/Chicago:20231205T200000
DTSTAMP:20260425T054346
CREATED:20231205T152053Z
LAST-MODIFIED:20231205T152053Z
UID:6112-1701802800-1701806400@anchorboatclub.net
SUMMARY:Membership Meeting
DESCRIPTION:Will be voting on a Membership By-Law change this meeting.
URL:https://anchorboatclub.net/event/membership-meeting/
LOCATION:Anchor Boat Club\, 407 East Lake Drive\, Springfield\, IL\, 62712\, United States
END:VEVENT
BEGIN:VEVENT
DTSTART;TZID=America/Chicago:20231118T180000
DTEND;TZID=America/Chicago:20231118T210000
DTSTAMP:20260425T054346
CREATED:20231020T170140Z
LAST-MODIFIED:20231020T170140Z
UID:6092-1700330400-1700341200@anchorboatclub.net
SUMMARY:Trivia Night at ABC
DESCRIPTION:
URL:https://anchorboatclub.net/event/trivia-night-at-abc/
LOCATION:Anchor Boat Club\, 407 East Lake Drive\, Springfield\, IL\, 62712\, United States
END:VEVENT
BEGIN:VEVENT
DTSTART;TZID=America/Chicago:20231107T190000
DTEND;TZID=America/Chicago:20231107T200000
DTSTAMP:20260425T054346
CREATED:20231020T165924Z
LAST-MODIFIED:20231020T165924Z
UID:6090-1699383600-1699387200@anchorboatclub.net
SUMMARY:ABC November Membership Meeting
DESCRIPTION:
URL:https://anchorboatclub.net/event/abc-november-membership-meeting/
LOCATION:Anchor Boat Club\, 407 East Lake Drive\, Springfield\, IL\, 62712\, United States
END:VEVENT
BEGIN:VEVENT
DTSTART;TZID=America/Chicago:20231030T070000
DTEND;TZID=America/Chicago:20231030T200000
DTSTAMP:20260425T054346
CREATED:20231010T015102Z
LAST-MODIFIED:20231020T165804Z
UID:6074-1698649200-1698696000@anchorboatclub.net
SUMMARY:ABC October Officer's Meeting
DESCRIPTION:
URL:https://anchorboatclub.net/event/abc-october-membership-meeting/
LOCATION:Anchor Boat Club\, 407 East Lake Drive\, Springfield\, IL\, 62712\, United States
END:VEVENT
BEGIN:VEVENT
DTSTART;TZID=America/Chicago:20231028T180000
DTEND;TZID=America/Chicago:20231028T220000
DTSTAMP:20260425T054346
CREATED:20230924T212130Z
LAST-MODIFIED:20230924T212203Z
UID:6067-1698516000-1698530400@anchorboatclub.net
SUMMARY:Halloween Party (for Adults)
DESCRIPTION:
URL:https://anchorboatclub.net/event/halloween-party-for-adults/
LOCATION:Anchor Boat Club\, 407 East Lake Drive\, Springfield\, IL\, 62712\, United States
END:VEVENT
BEGIN:VEVENT
DTSTART;TZID=America/Chicago:20231027T180000
DTEND;TZID=America/Chicago:20231027T200000
DTSTAMP:20260425T054346
CREATED:20230327T015454Z
LAST-MODIFIED:20230924T212304Z
UID:5837-1698429600-1698436800@anchorboatclub.net
SUMMARY:Trunk or Treat
DESCRIPTION:Come on out for this year’s Trunk or Treat at the Anchor Boat Club! Decorating starts at 5pm. The fun begins at 6pm. \nPrize goes to the best decorated trunk! Gift bags for kids! Hot dogs\, chili\, and chips will be provided. Open to the public and free of charge!
URL:https://anchorboatclub.net/event/trunk-or-treat/
LOCATION:Anchor Boat Club\, 407 East Lake Drive\, Springfield\, IL\, 62712\, United States
END:VEVENT
BEGIN:VEVENT
DTSTART;VALUE=DATE:20231007
DTEND;VALUE=DATE:20231008
DTSTAMP:20260425T054346
CREATED:20230327T015412Z
LAST-MODIFIED:20230327T015412Z
UID:5835-1696636800-1696723199@anchorboatclub.net
SUMMARY:Bags Tournament / Oktoberfest
DESCRIPTION:
URL:https://anchorboatclub.net/event/bags-tournament-oktoberfest/
LOCATION:Lake Press Club\, 13 Club Area\, Springfield\, IL\, 62712\, United States
END:VEVENT
BEGIN:VEVENT
DTSTART;VALUE=DATE:20230930
DTEND;VALUE=DATE:20231001
DTSTAMP:20260425T054346
CREATED:20230327T015338Z
LAST-MODIFIED:20230327T015338Z
UID:5833-1696032000-1696118399@anchorboatclub.net
SUMMARY:Kickball Tournament
DESCRIPTION:
URL:https://anchorboatclub.net/event/kickball-tournament/
LOCATION:Ski & Boat Club\, 268 Maple Grove Lane\, Springfield\, 62712\, United States
END:VEVENT
BEGIN:VEVENT
DTSTART;VALUE=DATE:20230923
DTEND;VALUE=DATE:20230924
DTSTAMP:20260425T054346
CREATED:20230327T015302Z
LAST-MODIFIED:20230327T015302Z
UID:5831-1695427200-1695513599@anchorboatclub.net
SUMMARY:"Chipping for Charity" Golf
DESCRIPTION:
URL:https://anchorboatclub.net/event/chipping-for-charity-golf/
LOCATION:Sangamo Surf Club\, 405 E Lake Shore Dr\, Springfield\, 62712\, United States
END:VEVENT
BEGIN:VEVENT
DTSTART;VALUE=DATE:20230923
DTEND;VALUE=DATE:20230924
DTSTAMP:20260425T054346
CREATED:20230327T015215Z
LAST-MODIFIED:20230327T015215Z
UID:5829-1695427200-1695513599@anchorboatclub.net
SUMMARY:"Fishing Has No Boundaries"
DESCRIPTION:
URL:https://anchorboatclub.net/event/fishing-has-no-boundaries/
LOCATION:TRN Club\, 25 Lakewood Drive\, Chatham\, IL\, 62629\, United States
END:VEVENT
BEGIN:VEVENT
DTSTART;TZID=America/Chicago:20230922T170000
DTEND;TZID=America/Chicago:20230922T220000
DTSTAMP:20260425T054346
CREATED:20230921T170811Z
LAST-MODIFIED:20230921T170811Z
UID:6061-1695402000-1695420000@anchorboatclub.net
SUMMARY:Dock Party
DESCRIPTION:Come Join Us For The Annual Dock Party\n\nDecorate your boat dock and have finger food to share.\nThere is a chance Karaoke will be playing.\nQueen of Hearts Drawing at 8:00 and then continue the party on the dock afterwards\nEveryone is invited Dock owners and Non Dock Owners.\nWe will also be celebrating SJs 60th!
URL:https://anchorboatclub.net/event/dock-party/
LOCATION:Anchor Boat Club\, 407 East Lake Drive\, Springfield\, IL\, 62712\, United States
END:VEVENT
BEGIN:VEVENT
DTSTART;VALUE=DATE:20230916
DTEND;VALUE=DATE:20230917
DTSTAMP:20260425T054346
CREATED:20230327T015134Z
LAST-MODIFIED:20230327T015134Z
UID:5827-1694822400-1694908799@anchorboatclub.net
SUMMARY:Shrimp Boil
DESCRIPTION:
URL:https://anchorboatclub.net/event/shrimp-boil/
LOCATION:Lake Press Club\, 13 Club Area\, Springfield\, IL\, 62712\, United States
END:VEVENT
BEGIN:VEVENT
DTSTART;TZID=America/Chicago:20230910T160000
DTEND;TZID=America/Chicago:20230910T190000
DTSTAMP:20260425T054346
CREATED:20230327T015047Z
LAST-MODIFIED:20230327T015047Z
UID:5825-1694361600-1694372400@anchorboatclub.net
SUMMARY:Sunday Funday
DESCRIPTION:
URL:https://anchorboatclub.net/event/sunday-funday-2/
LOCATION:Elks Lodge\, 409 E Lake Drive\, Springfield\, IL\, 62712\, United States
END:VEVENT
BEGIN:VEVENT
DTSTART;VALUE=DATE:20230909
DTEND;VALUE=DATE:20230910
DTSTAMP:20260425T054346
CREATED:20230327T014939Z
LAST-MODIFIED:20230327T014939Z
UID:5823-1694217600-1694303999@anchorboatclub.net
SUMMARY:Redneck Olympix
DESCRIPTION:
URL:https://anchorboatclub.net/event/redneck-olympix/
LOCATION:Anchor Boat Club\, 407 East Lake Drive\, Springfield\, IL\, 62712\, United States
END:VEVENT
BEGIN:VEVENT
DTSTART;VALUE=DATE:20230903
DTEND;VALUE=DATE:20230904
DTSTAMP:20260425T054346
CREATED:20230327T014914Z
LAST-MODIFIED:20230327T014914Z
UID:5821-1693699200-1693785599@anchorboatclub.net
SUMMARY:Labor Day Party
DESCRIPTION:
URL:https://anchorboatclub.net/event/labor-day-party/
LOCATION:Firefighters / Postal Club\, 940 W Lake Shore Drive\, Springfield\, IL\, 62703\, United States
END:VEVENT
BEGIN:VEVENT
DTSTART;VALUE=DATE:20230902
DTEND;VALUE=DATE:20230903
DTSTAMP:20260425T054346
CREATED:20230327T014817Z
LAST-MODIFIED:20230327T014817Z
UID:5818-1693612800-1693699199@anchorboatclub.net
SUMMARY:Motor Boat & Clubs / SLSIA Fireworks
DESCRIPTION:
URL:https://anchorboatclub.net/event/motor-boat-clubs-slsia-fireworks/
LOCATION:Springfield Motor Boat Club\, 17 Club Area\, Springfield\, IL\, 62712\, United States
END:VEVENT
BEGIN:VEVENT
DTSTART;VALUE=DATE:20230902
DTEND;VALUE=DATE:20230903
DTSTAMP:20260425T054346
CREATED:20230327T014516Z
LAST-MODIFIED:20230327T014516Z
UID:5816-1693612800-1693699199@anchorboatclub.net
SUMMARY:End of Summer Party
DESCRIPTION:
URL:https://anchorboatclub.net/event/end-of-summer-party/
LOCATION:Elks Lodge\, 409 E Lake Drive\, Springfield\, IL\, 62712\, United States
END:VEVENT
BEGIN:VEVENT
DTSTART;TZID=America/Chicago:20230829T190000
DTEND;TZID=America/Chicago:20230829T200000
DTSTAMP:20260425T054346
CREATED:20230312T021214Z
LAST-MODIFIED:20230312T021214Z
UID:5735-1693335600-1693339200@anchorboatclub.net
SUMMARY:August 2023 Officer's Meeting
DESCRIPTION:
URL:https://anchorboatclub.net/event/august-2023-officers-meeting/
LOCATION:Anchor Boat Club\, 407 East Lake Drive\, Springfield\, IL\, 62712\, United States
END:VEVENT
BEGIN:VEVENT
DTSTART;VALUE=DATE:20230826
DTEND;VALUE=DATE:20230827
DTSTAMP:20260425T054346
CREATED:20230327T014433Z
LAST-MODIFIED:20230327T014433Z
UID:5813-1693008000-1693094399@anchorboatclub.net
SUMMARY:Chicken Fry
DESCRIPTION:
URL:https://anchorboatclub.net/event/chicken-fry-4/
LOCATION:KC Lake Club\, 141 N Lakewood Dr.\, Chatham\, IL\, 62629\, United States
END:VEVENT
BEGIN:VEVENT
DTSTART;VALUE=DATE:20230819
DTEND;VALUE=DATE:20230820
DTSTAMP:20260425T054346
CREATED:20230327T014220Z
LAST-MODIFIED:20230327T015618Z
UID:5810-1692403200-1692489599@anchorboatclub.net
SUMMARY:Patio Party
DESCRIPTION:
URL:https://anchorboatclub.net/event/patio-party/
LOCATION:Blue Ridge Club\, 411 E Lake Shore Dr\, Springfield\, IL\, 62712\, United States
END:VEVENT
BEGIN:VEVENT
DTSTART;TZID=America/Chicago:20230818T190000
DTEND;TZID=America/Chicago:20230818T220000
DTSTAMP:20260425T054346
CREATED:20230312T013826Z
LAST-MODIFIED:20230312T013826Z
UID:5715-1692385200-1692396000@anchorboatclub.net
SUMMARY:Summer Concert Series - X-Krush
DESCRIPTION:
URL:https://anchorboatclub.net/event/summer-concert-series-x-krush/
LOCATION:Anchor Boat Club\, 407 East Lake Drive\, Springfield\, IL\, 62712\, United States
END:VEVENT
BEGIN:VEVENT
DTSTART;VALUE=DATE:20230812
DTEND;VALUE=DATE:20230813
DTSTAMP:20260425T054346
CREATED:20230327T013757Z
LAST-MODIFIED:20230327T013757Z
UID:5808-1691798400-1691884799@anchorboatclub.net
SUMMARY:Cardboard Boat Regatta
DESCRIPTION:
URL:https://anchorboatclub.net/event/cardboard-boat-regatta/
LOCATION:Anchor Boat Club\, 407 East Lake Drive\, Springfield\, IL\, 62712\, United States
END:VEVENT
BEGIN:VEVENT
DTSTART;VALUE=DATE:20230805
DTEND;VALUE=DATE:20230806
DTSTAMP:20260425T054346
CREATED:20230327T013716Z
LAST-MODIFIED:20230327T013716Z
UID:5806-1691193600-1691279999@anchorboatclub.net
SUMMARY:Chicken Fry
DESCRIPTION:
URL:https://anchorboatclub.net/event/chicken-fry-3/
LOCATION:Anchor Boat Club\, 407 East Lake Drive\, Springfield\, IL\, 62712\, United States
END:VEVENT
BEGIN:VEVENT
DTSTART;TZID=America/Chicago:20230802T180000
DTEND;TZID=America/Chicago:20230802T210000
DTSTAMP:20260425T054346
CREATED:20230327T013643Z
LAST-MODIFIED:20230327T013643Z
UID:5804-1690999200-1691010000@anchorboatclub.net
SUMMARY:Rumble Around the Lake
DESCRIPTION:
URL:https://anchorboatclub.net/event/rumble-around-the-lake-2/
LOCATION:TRN Club\, 25 Lakewood Drive\, Chatham\, IL\, 62629\, United States
END:VEVENT
BEGIN:VEVENT
DTSTART;TZID=America/Chicago:20230801T190000
DTEND;TZID=America/Chicago:20230801T200000
DTSTAMP:20260425T054346
CREATED:20230312T021117Z
LAST-MODIFIED:20230312T021117Z
UID:5733-1690916400-1690920000@anchorboatclub.net
SUMMARY:August 2023 Membership Meeting
DESCRIPTION:
URL:https://anchorboatclub.net/event/august-2023-membership-meeting/
LOCATION:Anchor Boat Club\, 407 East Lake Drive\, Springfield\, IL\, 62712\, United States
END:VEVENT
BEGIN:VEVENT
DTSTART;VALUE=DATE:20230729
DTEND;VALUE=DATE:20230730
DTSTAMP:20260425T054346
CREATED:20230327T013550Z
LAST-MODIFIED:20230327T013550Z
UID:5802-1690588800-1690675199@anchorboatclub.net
SUMMARY:Dawg Day
DESCRIPTION:
URL:https://anchorboatclub.net/event/dawg-day/
LOCATION:Sangamo Surf Club\, 405 E Lake Shore Dr\, Springfield\, 62712\, United States
END:VEVENT
BEGIN:VEVENT
DTSTART;TZID=America/Chicago:20230725T190000
DTEND;TZID=America/Chicago:20230725T200000
DTSTAMP:20260425T054346
CREATED:20230312T021006Z
LAST-MODIFIED:20230312T021006Z
UID:5731-1690311600-1690315200@anchorboatclub.net
SUMMARY:July 2023 Officer's Meeting
DESCRIPTION:
URL:https://anchorboatclub.net/event/july-2023-officers-meeting/
LOCATION:Anchor Boat Club\, 407 East Lake Drive\, Springfield\, IL\, 62712\, United States
END:VEVENT
BEGIN:VEVENT
DTSTART;VALUE=DATE:20230722
DTEND;VALUE=DATE:20230723
DTSTAMP:20260425T054346
CREATED:20230327T013511Z
LAST-MODIFIED:20230327T013511Z
UID:5800-1689984000-1690070399@anchorboatclub.net
SUMMARY:Summer Bash
DESCRIPTION:
URL:https://anchorboatclub.net/event/summer-bash/
LOCATION:Ski & Boat Club\, 268 Maple Grove Lane\, Springfield\, 62712\, United States
END:VEVENT
BEGIN:VEVENT
DTSTART;TZID=America/Chicago:20230721T190000
DTEND;TZID=America/Chicago:20230721T220000
DTSTAMP:20260425T054346
CREATED:20230312T013545Z
LAST-MODIFIED:20230312T013545Z
UID:5713-1689966000-1689976800@anchorboatclub.net
SUMMARY:Summer Concert Series - Exit 52
DESCRIPTION:
URL:https://anchorboatclub.net/event/summer-concert-series-exit-52/
LOCATION:Anchor Boat Club\, 407 East Lake Drive\, Springfield\, IL\, 62712\, United States
END:VEVENT
BEGIN:VEVENT
DTSTART;VALUE=DATE:20230715
DTEND;VALUE=DATE:20230716
DTSTAMP:20260425T054346
CREATED:20230327T013444Z
LAST-MODIFIED:20230327T013444Z
UID:5798-1689379200-1689465599@anchorboatclub.net
SUMMARY:Summerfest
DESCRIPTION:
URL:https://anchorboatclub.net/event/summerfest/
LOCATION:Lake Press Club\, 13 Club Area\, Springfield\, IL\, 62712\, United States
END:VEVENT
END:VCALENDAR