BEGIN:VCALENDAR
VERSION:2.0
PRODID:-//Anchor Boat Club - ECPv6.15.19//NONSGML v1.0//EN
CALSCALE:GREGORIAN
METHOD:PUBLISH
X-WR-CALNAME:Anchor Boat Club
X-ORIGINAL-URL:https://anchorboatclub.net
X-WR-CALDESC:Events for Anchor Boat Club
REFRESH-INTERVAL;VALUE=DURATION:PT1H
X-Robots-Tag:noindex
X-PUBLISHED-TTL:PT1H
BEGIN:VTIMEZONE
TZID:America/Chicago
BEGIN:DAYLIGHT
TZOFFSETFROM:-0600
TZOFFSETTO:-0500
TZNAME:CDT
DTSTART:20240310T080000
END:DAYLIGHT
BEGIN:STANDARD
TZOFFSETFROM:-0500
TZOFFSETTO:-0600
TZNAME:CST
DTSTART:20241103T070000
END:STANDARD
BEGIN:DAYLIGHT
TZOFFSETFROM:-0600
TZOFFSETTO:-0500
TZNAME:CDT
DTSTART:20250309T080000
END:DAYLIGHT
BEGIN:STANDARD
TZOFFSETFROM:-0500
TZOFFSETTO:-0600
TZNAME:CST
DTSTART:20251102T070000
END:STANDARD
BEGIN:DAYLIGHT
TZOFFSETFROM:-0600
TZOFFSETTO:-0500
TZNAME:CDT
DTSTART:20260308T080000
END:DAYLIGHT
BEGIN:STANDARD
TZOFFSETFROM:-0500
TZOFFSETTO:-0600
TZNAME:CST
DTSTART:20261101T070000
END:STANDARD
BEGIN:DAYLIGHT
TZOFFSETFROM:-0600
TZOFFSETTO:-0500
TZNAME:CDT
DTSTART:20270314T080000
END:DAYLIGHT
BEGIN:STANDARD
TZOFFSETFROM:-0500
TZOFFSETTO:-0600
TZNAME:CST
DTSTART:20271107T070000
END:STANDARD
END:VTIMEZONE
BEGIN:VEVENT
DTSTART;TZID=America/Chicago:20260131T113000
DTEND;TZID=America/Chicago:20260131T143000
DTSTAMP:20260423T193431
CREATED:20260129T235102Z
LAST-MODIFIED:20260129T235221Z
UID:6789-1769859000-1769869800@anchorboatclub.net
SUMMARY:ABC Stone Cold Curlin' Tournament
DESCRIPTION:
URL:https://anchorboatclub.net/event/abc-stone-cold-curlin-tournament/
LOCATION:Anchor Boat Club\, 407 East Lake Drive\, Springfield\, IL\, 62712\, United States
END:VEVENT
BEGIN:VEVENT
DTSTART;TZID=America/Chicago:20260127T190000
DTEND;TZID=America/Chicago:20260127T200000
DTSTAMP:20260423T193431
CREATED:20251229T212856Z
LAST-MODIFIED:20251229T212856Z
UID:6717-1769540400-1769544000@anchorboatclub.net
SUMMARY:Officer's Meeting
DESCRIPTION:
URL:https://anchorboatclub.net/event/officers-meeting-5/
LOCATION:Anchor Boat Club\, 407 East Lake Drive\, Springfield\, IL\, 62712\, United States
END:VEVENT
BEGIN:VEVENT
DTSTART;TZID=America/Chicago:20260123T183000
DTEND;TZID=America/Chicago:20260123T200000
DTSTAMP:20260423T193431
CREATED:20251229T213102Z
LAST-MODIFIED:20251229T213102Z
UID:6721-1769193000-1769198400@anchorboatclub.net
SUMMARY:Queen of Hearts Drawing
DESCRIPTION:
URL:https://anchorboatclub.net/event/queen-of-hearts-drawing-15/
LOCATION:Anchor Boat Club\, 407 East Lake Drive\, Springfield\, IL\, 62712\, United States
END:VEVENT
BEGIN:VEVENT
DTSTART;TZID=America/Chicago:20260118T120000
DTEND;TZID=America/Chicago:20260118T160000
DTSTAMP:20260423T193431
CREATED:20260115T221130Z
LAST-MODIFIED:20260115T221355Z
UID:6756-1768737600-1768752000@anchorboatclub.net
SUMMARY:17th Annual Lake Council Chili Challenge - West Regional
DESCRIPTION:
URL:https://anchorboatclub.net/event/17th-annual-lake-springfield-chili-challenge-west-regional/
LOCATION:Springfield Motor Boat Club\, 17 Club Area\, Springfield\, IL\, 62712\, United States
END:VEVENT
BEGIN:VEVENT
DTSTART;VALUE=DATE:20260110
DTEND;VALUE=DATE:20260111
DTSTAMP:20260423T193431
CREATED:20251126T034112Z
LAST-MODIFIED:20251126T034112Z
UID:6677-1768003200-1768089599@anchorboatclub.net
SUMMARY:Lake Springfield Frozen Open 2026
DESCRIPTION:
URL:https://anchorboatclub.net/event/lake-springfield-frozen-open-2026/
LOCATION:Anchor Boat Club\, 407 East Lake Drive\, Springfield\, IL\, 62712\, United States
END:VEVENT
BEGIN:VEVENT
DTSTART;TZID=America/Chicago:20260109T183000
DTEND;TZID=America/Chicago:20260109T200000
DTSTAMP:20260423T193431
CREATED:20251229T213029Z
LAST-MODIFIED:20251229T213029Z
UID:6719-1767983400-1767988800@anchorboatclub.net
SUMMARY:Queen of Hearts Drawing
DESCRIPTION:
URL:https://anchorboatclub.net/event/queen-of-hearts-drawing-14/
LOCATION:Anchor Boat Club\, 407 East Lake Drive\, Springfield\, IL\, 62712\, United States
END:VEVENT
BEGIN:VEVENT
DTSTART;TZID=America/Chicago:20260106T190000
DTEND;TZID=America/Chicago:20260106T200000
DTSTAMP:20260423T193431
CREATED:20251126T033836Z
LAST-MODIFIED:20251126T033836Z
UID:6671-1767726000-1767729600@anchorboatclub.net
SUMMARY:Membership Meeting
DESCRIPTION:
URL:https://anchorboatclub.net/event/membership-meeting-7/
LOCATION:Anchor Boat Club\, 407 East Lake Drive\, Springfield\, IL\, 62712\, United States
END:VEVENT
BEGIN:VEVENT
DTSTART;TZID=America/Chicago:20251231T190000
DTEND;TZID=America/Chicago:20260101T010000
DTSTAMP:20260423T193431
CREATED:20251229T212545Z
LAST-MODIFIED:20251229T212545Z
UID:6713-1767207600-1767229200@anchorboatclub.net
SUMMARY:New Year's Eve
DESCRIPTION:Looking for something to do New Year’s Eve? Come out to the Anchor at 7 pm to welcome in the New Year. If interested\, please bring a side dish to share. We will have the Newlywed game along with Trivia. Hope to see you there.
URL:https://anchorboatclub.net/event/new-years-eve/
LOCATION:Anchor Boat Club\, 407 East Lake Drive\, Springfield\, IL\, 62712\, United States
END:VEVENT
BEGIN:VEVENT
DTSTART;TZID=America/Chicago:20251230T190000
DTEND;TZID=America/Chicago:20251230T200000
DTSTAMP:20260423T193431
CREATED:20251229T212759Z
LAST-MODIFIED:20251229T212759Z
UID:6715-1767121200-1767124800@anchorboatclub.net
SUMMARY:Officer's Meeting
DESCRIPTION:
URL:https://anchorboatclub.net/event/officers-meeting-4/
LOCATION:Anchor Boat Club\, 407 East Lake Drive\, Springfield\, IL\, 62712\, United States
END:VEVENT
BEGIN:VEVENT
DTSTART;TZID=America/Chicago:20251220T120000
DTEND;TZID=America/Chicago:20251220T160000
DTSTAMP:20260423T193431
CREATED:20251126T033423Z
LAST-MODIFIED:20251210T011503Z
UID:6666-1766232000-1766246400@anchorboatclub.net
SUMMARY:ABC Chili Cookoff
DESCRIPTION:Saturday\, December 20\, 2025\nThe Anchor Boat Club Chili Challenge will be held!!! Check-in will be between Noon and 1:30pm\, with Blind Judging taking place at 2:00pm. \nThe top 3 entries will be sponsored by the club to enter the Chili Challenge East Regional that will also be held at the Anchor on February 15\, 2026. \nIf would like to enter the Anchor Chili contest\, please let Norm know by December 19th and bring your crockpot full of chili on the 20th. We will also have Hot Dogs if you would like a chili dog. We will have football & basketball on the TVs. \nAny questions\, please contact Norman Reeves at (217) 691-1596
URL:https://anchorboatclub.net/event/abc-chili-cookoff/
LOCATION:Anchor Boat Club\, 407 East Lake Drive\, Springfield\, IL\, 62712\, United States
END:VEVENT
BEGIN:VEVENT
DTSTART;TZID=America/Chicago:20251220T090000
DTEND;TZID=America/Chicago:20251220T120000
DTSTAMP:20260423T193431
CREATED:20251110T045543Z
LAST-MODIFIED:20251213T140254Z
UID:6660-1766221200-1766232000@anchorboatclub.net
SUMMARY:Breakfast with Santa 2025
DESCRIPTION:Check out the event page for more information!
URL:https://anchorboatclub.net/event/breakfast-with-santa-2025/
LOCATION:Anchor Boat Club\, 407 East Lake Drive\, Springfield\, IL\, 62712\, United States
END:VEVENT
BEGIN:VEVENT
DTSTART;TZID=America/Chicago:20251202T190000
DTEND;TZID=America/Chicago:20251202T200000
DTSTAMP:20260423T193431
CREATED:20251126T033735Z
LAST-MODIFIED:20251126T033735Z
UID:6669-1764702000-1764705600@anchorboatclub.net
SUMMARY:Membership Meeting
DESCRIPTION:
URL:https://anchorboatclub.net/event/membership-meeting-6/
LOCATION:Anchor Boat Club\, 407 East Lake Drive\, Springfield\, IL\, 62712\, United States
END:VEVENT
BEGIN:VEVENT
DTSTART;TZID=America/Chicago:20251101T180000
DTEND;TZID=America/Chicago:20251101T220000
DTSTAMP:20260423T193431
CREATED:20250926T004845Z
LAST-MODIFIED:20250926T004853Z
UID:6633-1762020000-1762034400@anchorboatclub.net
SUMMARY:3rd Annual Adult Halloween Party
DESCRIPTION:There will be food (Main dish)\, music\, and a costume contest with prizes! Please bring a side dish\, appetizer\, or dessert to share.
URL:https://anchorboatclub.net/event/3rd-annual-adult-halloween-party/
LOCATION:Anchor Boat Club\, 407 East Lake Drive\, Springfield\, IL\, 62712\, United States
ATTACH;FMTTYPE=image/webp:https://anchorboatclub.net/wp-content/uploads/2025/09/91afbe54-7c23-4d94-a4df-26266119268ecr_0.0.837.webp
END:VEVENT
BEGIN:VEVENT
DTSTART;TZID=America/Chicago:20251024T180000
DTEND;TZID=America/Chicago:20251024T200000
DTSTAMP:20260423T193431
CREATED:20250928T204612Z
LAST-MODIFIED:20251012T191917Z
UID:6637-1761328800-1761336000@anchorboatclub.net
SUMMARY:Trunk or Treat 2025
DESCRIPTION:Open to MEMBERS & their guests. Start decorating your trunks at 5:00pm. Trick or Treating starts at 6:00pm. Chili\, hot dogs\, and treats provided.\n\nNo kids? Come join the fun! Grab a bit to eat\, and check out the awesome haunted graveyard.
URL:https://anchorboatclub.net/event/trunk-or-treat-2025/
LOCATION:Anchor Boat Club\, 407 East Lake Drive\, Springfield\, IL\, 62712\, United States
ATTACH;FMTTYPE=image/jpeg:https://anchorboatclub.net/wp-content/uploads/2025/09/show_285905hall-001_1__57707.jpg
END:VEVENT
BEGIN:VEVENT
DTSTART;TZID=America/Chicago:20250906T110000
DTEND;TZID=America/Chicago:20250906T170000
DTSTAMP:20260423T193431
CREATED:20250820T172430Z
LAST-MODIFIED:20250820T172430Z
UID:6620-1757156400-1757178000@anchorboatclub.net
SUMMARY:Triple B Bash
DESCRIPTION:
URL:https://anchorboatclub.net/event/triple-b-bash/
LOCATION:Anchor Boat Club\, 407 East Lake Drive\, Springfield\, IL\, 62712\, United States
END:VEVENT
BEGIN:VEVENT
DTSTART;TZID=America/Chicago:20250831T113000
DTEND;TZID=America/Chicago:20250831T170000
DTSTAMP:20260423T193431
CREATED:20250807T131319Z
LAST-MODIFIED:20250807T131319Z
UID:6617-1756639800-1756659600@anchorboatclub.net
SUMMARY:Anchor Boat Scavenger Hunt
DESCRIPTION:
URL:https://anchorboatclub.net/event/anchor-boat-scavenger-hunt/
LOCATION:Anchor Boat Club\, 407 East Lake Drive\, Springfield\, IL\, 62712\, United States
END:VEVENT
BEGIN:VEVENT
DTSTART;TZID=America/Chicago:20250822T180000
DTEND;TZID=America/Chicago:20250822T220000
DTSTAMP:20260423T193431
CREATED:20250807T131032Z
LAST-MODIFIED:20250807T131032Z
UID:6615-1755885600-1755900000@anchorboatclub.net
SUMMARY:Queen of Hearts Drawing & 2FlightsDown
DESCRIPTION:
URL:https://anchorboatclub.net/event/queen-of-hearts-drawing-2flightsdown/
LOCATION:Anchor Boat Club\, 407 East Lake Drive\, Springfield\, IL\, 62712\, United States
END:VEVENT
BEGIN:VEVENT
DTSTART;TZID=America/Chicago:20250808T200000
DTEND;TZID=America/Chicago:20250808T203000
DTSTAMP:20260423T193431
CREATED:20250807T130903Z
LAST-MODIFIED:20250807T131113Z
UID:6613-1754683200-1754685000@anchorboatclub.net
SUMMARY:Queen of Hearts Drawing
DESCRIPTION:
URL:https://anchorboatclub.net/event/queen-of-hearts-drawing-13/
LOCATION:Anchor Boat Club\, 407 East Lake Drive\, Springfield\, IL\, 62712\, United States
END:VEVENT
BEGIN:VEVENT
DTSTART;VALUE=DATE:20250802
DTEND;VALUE=DATE:20250803
DTSTAMP:20260423T193431
CREATED:20250617T171908Z
LAST-MODIFIED:20250617T171908Z
UID:6581-1754092800-1754179199@anchorboatclub.net
SUMMARY:Chicken Fry 2025
DESCRIPTION:
URL:https://anchorboatclub.net/event/chicken-fry-2025/
LOCATION:Anchor Boat Club\, 407 East Lake Drive\, Springfield\, IL\, 62712\, United States
END:VEVENT
BEGIN:VEVENT
DTSTART;VALUE=DATE:20250725
DTEND;VALUE=DATE:20250728
DTSTAMP:20260423T193431
CREATED:20250617T171715Z
LAST-MODIFIED:20250617T171715Z
UID:6577-1753401600-1753660799@anchorboatclub.net
SUMMARY:Spooner Softball Tournament
DESCRIPTION:
URL:https://anchorboatclub.net/event/spooner-softball-tournament-2/
LOCATION:Anchor Boat Club\, 407 East Lake Drive\, Springfield\, IL\, 62712\, United States
END:VEVENT
BEGIN:VEVENT
DTSTART;VALUE=DATE:20250719
DTEND;VALUE=DATE:20250720
DTSTAMP:20260423T193431
CREATED:20250617T171807Z
LAST-MODIFIED:20250617T171807Z
UID:6579-1752883200-1752969599@anchorboatclub.net
SUMMARY:Annual Cardboard Boat Regatta
DESCRIPTION:
URL:https://anchorboatclub.net/event/annual-cardboard-boat-regatta/
LOCATION:Anchor Boat Club\, 407 East Lake Drive\, Springfield\, IL\, 62712\, United States
END:VEVENT
BEGIN:VEVENT
DTSTART;VALUE=DATE:20250517
DTEND;VALUE=DATE:20250518
DTSTAMP:20260423T193431
CREATED:20250108T163431Z
LAST-MODIFIED:20250108T163431Z
UID:6512-1747440000-1747526399@anchorboatclub.net
SUMMARY:Dock Party
DESCRIPTION:More information to come!
URL:https://anchorboatclub.net/event/dock-party-2/
LOCATION:Anchor Boat Club\, 407 East Lake Drive\, Springfield\, IL\, 62712\, United States
END:VEVENT
BEGIN:VEVENT
DTSTART;VALUE=DATE:20250426
DTEND;VALUE=DATE:20250427
DTSTAMP:20260423T193431
CREATED:20250326T003925Z
LAST-MODIFIED:20250326T003925Z
UID:6561-1745625600-1745711999@anchorboatclub.net
SUMMARY:Club Appreciation Party
DESCRIPTION:
URL:https://anchorboatclub.net/event/club-appreciation-party/
LOCATION:Anchor Boat Club\, 407 East Lake Drive\, Springfield\, IL\, 62712\, United States
END:VEVENT
BEGIN:VEVENT
DTSTART;TZID=America/Chicago:20250411T173000
DTEND;TZID=America/Chicago:20250411T200000
DTSTAMP:20260423T193431
CREATED:20250130T042432Z
LAST-MODIFIED:20250130T042432Z
UID:6539-1744392600-1744401600@anchorboatclub.net
SUMMARY:ABC Fish Fry
DESCRIPTION:
URL:https://anchorboatclub.net/event/abc-fish-fry-6/
LOCATION:Anchor Boat Club\, 407 East Lake Drive\, Springfield\, IL\, 62712\, United States
END:VEVENT
BEGIN:VEVENT
DTSTART;TZID=America/Chicago:20250404T173000
DTEND;TZID=America/Chicago:20250404T200000
DTSTAMP:20260423T193431
CREATED:20250130T042350Z
LAST-MODIFIED:20250130T042350Z
UID:6537-1743787800-1743796800@anchorboatclub.net
SUMMARY:ABC Fish Fry
DESCRIPTION:
URL:https://anchorboatclub.net/event/abc-fish-fry-5/
LOCATION:Anchor Boat Club\, 407 East Lake Drive\, Springfield\, IL\, 62712\, United States
END:VEVENT
BEGIN:VEVENT
DTSTART;TZID=America/Chicago:20250401T190000
DTEND;TZID=America/Chicago:20250401T200000
DTSTAMP:20260423T193431
CREATED:20250130T043002Z
LAST-MODIFIED:20250130T043002Z
UID:6546-1743534000-1743537600@anchorboatclub.net
SUMMARY:Membership Meeting
DESCRIPTION:
URL:https://anchorboatclub.net/event/membership-meeting-5/
LOCATION:Anchor Boat Club\, 407 East Lake Drive\, Springfield\, IL\, 62712\, United States
END:VEVENT
BEGIN:VEVENT
DTSTART;TZID=America/Chicago:20250328T173000
DTEND;TZID=America/Chicago:20250328T200000
DTSTAMP:20260423T193431
CREATED:20250130T042256Z
LAST-MODIFIED:20250130T042256Z
UID:6535-1743183000-1743192000@anchorboatclub.net
SUMMARY:ABC Fish Fry
DESCRIPTION:
URL:https://anchorboatclub.net/event/abc-fish-fry-4/
LOCATION:Anchor Boat Club\, 407 East Lake Drive\, Springfield\, IL\, 62712\, United States
END:VEVENT
BEGIN:VEVENT
DTSTART;TZID=America/Chicago:20250321T173000
DTEND;TZID=America/Chicago:20250321T200000
DTSTAMP:20260423T193431
CREATED:20250130T042210Z
LAST-MODIFIED:20250130T042210Z
UID:6533-1742578200-1742587200@anchorboatclub.net
SUMMARY:ABC Fish Fry
DESCRIPTION:
URL:https://anchorboatclub.net/event/abc-fish-fry-3/
LOCATION:Anchor Boat Club\, 407 East Lake Drive\, Springfield\, IL\, 62712\, United States
END:VEVENT
BEGIN:VEVENT
DTSTART;TZID=America/Chicago:20250314T173000
DTEND;TZID=America/Chicago:20250314T200000
DTSTAMP:20260423T193431
CREATED:20250130T042119Z
LAST-MODIFIED:20250130T042119Z
UID:6531-1741973400-1741982400@anchorboatclub.net
SUMMARY:ABC Fish Fry
DESCRIPTION:
URL:https://anchorboatclub.net/event/abc-fish-fry-2/
LOCATION:Anchor Boat Club\, 407 East Lake Drive\, Springfield\, IL\, 62712\, United States
END:VEVENT
BEGIN:VEVENT
DTSTART;TZID=America/Chicago:20250307T173000
DTEND;TZID=America/Chicago:20250307T200000
DTSTAMP:20260423T193431
CREATED:20250130T042016Z
LAST-MODIFIED:20250130T042016Z
UID:6529-1741368600-1741377600@anchorboatclub.net
SUMMARY:ABC Fish Fry
DESCRIPTION:
URL:https://anchorboatclub.net/event/abc-fish-fry/
LOCATION:Anchor Boat Club\, 407 East Lake Drive\, Springfield\, IL\, 62712\, United States
END:VEVENT
END:VCALENDAR