BEGIN:VCALENDAR
VERSION:2.0
PRODID:-//Anchor Boat Club - ECPv6.15.19//NONSGML v1.0//EN
CALSCALE:GREGORIAN
METHOD:PUBLISH
X-WR-CALNAME:Anchor Boat Club
X-ORIGINAL-URL:https://anchorboatclub.net
X-WR-CALDESC:Events for Anchor Boat Club
REFRESH-INTERVAL;VALUE=DURATION:PT1H
X-Robots-Tag:noindex
X-PUBLISHED-TTL:PT1H
BEGIN:VTIMEZONE
TZID:America/Chicago
BEGIN:DAYLIGHT
TZOFFSETFROM:-0600
TZOFFSETTO:-0500
TZNAME:CDT
DTSTART:20230312T080000
END:DAYLIGHT
BEGIN:STANDARD
TZOFFSETFROM:-0500
TZOFFSETTO:-0600
TZNAME:CST
DTSTART:20231105T070000
END:STANDARD
BEGIN:DAYLIGHT
TZOFFSETFROM:-0600
TZOFFSETTO:-0500
TZNAME:CDT
DTSTART:20240310T080000
END:DAYLIGHT
BEGIN:STANDARD
TZOFFSETFROM:-0500
TZOFFSETTO:-0600
TZNAME:CST
DTSTART:20241103T070000
END:STANDARD
BEGIN:DAYLIGHT
TZOFFSETFROM:-0600
TZOFFSETTO:-0500
TZNAME:CDT
DTSTART:20250309T080000
END:DAYLIGHT
BEGIN:STANDARD
TZOFFSETFROM:-0500
TZOFFSETTO:-0600
TZNAME:CST
DTSTART:20251102T070000
END:STANDARD
END:VTIMEZONE
BEGIN:VEVENT
DTSTART;VALUE=DATE:20240823
DTEND;VALUE=DATE:20240824
DTSTAMP:20260425T064515
CREATED:20240816T014158Z
LAST-MODIFIED:20240816T014327Z
UID:6390-1724371200-1724457599@anchorboatclub.net
SUMMARY:Queen of Hearts Drawing (CANCELLED)
DESCRIPTION:There will be no Queen of Hearts Drawing this evening (due to the Orange & Blue Parking Lot Party). Next drawing will be on Friday\, Sept. 13th
URL:https://anchorboatclub.net/event/queen-of-hearts-drawing-cancelled/
LOCATION:Anchor Boat Club\, 407 East Lake Drive\, Springfield\, IL\, 62712\, United States
END:VEVENT
BEGIN:VEVENT
DTSTART;TZID=America/Chicago:20240818T180000
DTEND;TZID=America/Chicago:20240818T200000
DTSTAMP:20260425T064515
CREATED:20240816T020638Z
LAST-MODIFIED:20240816T020638Z
UID:6394-1724004000-1724011200@anchorboatclub.net
SUMMARY:Drew Cooper LIVE at the Anchor Boat Club
DESCRIPTION:Anchor Boat Club Members\, there will be a RARE Drew Cooper appearance on the patio this Sunday (August 18th) at 6:00pm for some live music. Drew is working his way to the east coast and has a stop-over in town. \nDrew is playing for tips\, his love of music\, and because Anchor people are some of the best between here and Tucson. Come on out\, have a few drinks\, and support Drew and live music at the Anchor Boat Club.
URL:https://anchorboatclub.net/event/drew-cooper-live-at-the-anchor-boat-club/
LOCATION:Anchor Boat Club\, 407 East Lake Drive\, Springfield\, IL\, 62712\, United States
ATTACH;FMTTYPE=image/jpeg:https://anchorboatclub.net/wp-content/uploads/2024/08/IMG_2236.jpeg
END:VEVENT
BEGIN:VEVENT
DTSTART;TZID=America/Chicago:20240809T183000
DTEND;TZID=America/Chicago:20240809T200000
DTSTAMP:20260425T064515
CREATED:20240807T043804Z
LAST-MODIFIED:20240807T043804Z
UID:6372-1723228200-1723233600@anchorboatclub.net
SUMMARY:Queen of Hearts Drawing
DESCRIPTION:
URL:https://anchorboatclub.net/event/queen-of-hearts-drawing-12/
LOCATION:Anchor Boat Club\, 407 East Lake Drive\, Springfield\, IL\, 62712\, United States
END:VEVENT
BEGIN:VEVENT
DTSTART;VALUE=DATE:20240803
DTEND;VALUE=DATE:20240804
DTSTAMP:20260425T064515
CREATED:20240403T151420Z
LAST-MODIFIED:20240403T151420Z
UID:6273-1722643200-1722729599@anchorboatclub.net
SUMMARY:Chicken Fry
DESCRIPTION:
URL:https://anchorboatclub.net/event/chicken-fry-5/
LOCATION:Anchor Boat Club\, 407 East Lake Drive\, Springfield\, IL\, 62712\, United States
END:VEVENT
BEGIN:VEVENT
DTSTART;VALUE=DATE:20240712
DTEND;VALUE=DATE:20240713
DTSTAMP:20260425T064515
CREATED:20240207T032509Z
LAST-MODIFIED:20240415T154324Z
UID:6199-1720742400-1720828799@anchorboatclub.net
SUMMARY:ABC Outdoor Patio Party
DESCRIPTION:
URL:https://anchorboatclub.net/event/abc-outdoor-patio-party-3/
LOCATION:Anchor Boat Club\, 407 East Lake Drive\, Springfield\, IL\, 62712\, United States
END:VEVENT
BEGIN:VEVENT
DTSTART;VALUE=DATE:20240629
DTEND;VALUE=DATE:20240630
DTSTAMP:20260425T064515
CREATED:20240403T151514Z
LAST-MODIFIED:20240415T162517Z
UID:6275-1719619200-1719705599@anchorboatclub.net
SUMMARY:Cardboard Regatta
DESCRIPTION:For more information\, check out the Cardboard Regatta page.
URL:https://anchorboatclub.net/event/cardboard-regatta/
LOCATION:Anchor Boat Club\, 407 East Lake Drive\, Springfield\, IL\, 62712\, United States
END:VEVENT
BEGIN:VEVENT
DTSTART;TZID=America/Chicago:20240614T180000
DTEND;TZID=America/Chicago:20240614T220000
DTSTAMP:20260425T064515
CREATED:20240207T032412Z
LAST-MODIFIED:20240612T030607Z
UID:6195-1718388000-1718402400@anchorboatclub.net
SUMMARY:ABC Outdoor Patio Party
DESCRIPTION:Come on out and enjoy the sounds of 2FlightsDown!!!
URL:https://anchorboatclub.net/event/abc-outdoor-patio-party-2/
LOCATION:Anchor Boat Club\, 407 East Lake Drive\, Springfield\, IL\, 62712\, United States
END:VEVENT
BEGIN:VEVENT
DTSTART;TZID=America/Chicago:20240613T180000
DTEND;TZID=America/Chicago:20240613T220000
DTSTAMP:20260425T064515
CREATED:20240403T021432Z
LAST-MODIFIED:20240403T021432Z
UID:6269-1718301600-1718316000@anchorboatclub.net
SUMMARY:Bocce Night
DESCRIPTION:
URL:https://anchorboatclub.net/event/bocce-night-6/
LOCATION:Anchor Boat Club\, 407 East Lake Drive\, Springfield\, IL\, 62712\, United States
END:VEVENT
BEGIN:VEVENT
DTSTART;TZID=America/Chicago:20240606T180000
DTEND;TZID=America/Chicago:20240606T220000
DTSTAMP:20260425T064515
CREATED:20240403T021354Z
LAST-MODIFIED:20240403T021402Z
UID:6267-1717696800-1717711200@anchorboatclub.net
SUMMARY:Bocce Night
DESCRIPTION:
URL:https://anchorboatclub.net/event/bocce-night-5/
LOCATION:Anchor Boat Club\, 407 East Lake Drive\, Springfield\, IL\, 62712\, United States
END:VEVENT
BEGIN:VEVENT
DTSTART;TZID=America/Chicago:20240530T180000
DTEND;TZID=America/Chicago:20240530T220000
DTSTAMP:20260425T064515
CREATED:20240403T021314Z
LAST-MODIFIED:20240403T021314Z
UID:6265-1717092000-1717106400@anchorboatclub.net
SUMMARY:Bocce Night
DESCRIPTION:
URL:https://anchorboatclub.net/event/bocce-night-4/
LOCATION:Anchor Boat Club\, 407 East Lake Drive\, Springfield\, IL\, 62712\, United States
END:VEVENT
BEGIN:VEVENT
DTSTART;TZID=America/Chicago:20240528T190000
DTEND;TZID=America/Chicago:20240528T200000
DTSTAMP:20260425T064515
CREATED:20240403T020450Z
LAST-MODIFIED:20240403T020450Z
UID:6257-1716922800-1716926400@anchorboatclub.net
SUMMARY:Officer's Meeting
DESCRIPTION:
URL:https://anchorboatclub.net/event/officers-meeting-3/
LOCATION:Anchor Boat Club\, 407 East Lake Drive\, Springfield\, IL\, 62712\, United States
END:VEVENT
BEGIN:VEVENT
DTSTART;VALUE=DATE:20240524
DTEND;VALUE=DATE:20240525
DTSTAMP:20260425T064515
CREATED:20240207T032339Z
LAST-MODIFIED:20240415T150013Z
UID:6193-1716508800-1716595199@anchorboatclub.net
SUMMARY:ABC Outdoor Patio Party
DESCRIPTION:
URL:https://anchorboatclub.net/event/abc-summer-concert-series/
LOCATION:Anchor Boat Club\, 407 East Lake Drive\, Springfield\, IL\, 62712\, United States
END:VEVENT
BEGIN:VEVENT
DTSTART;TZID=America/Chicago:20240523T180000
DTEND;TZID=America/Chicago:20240523T220000
DTSTAMP:20260425T064515
CREATED:20240403T021235Z
LAST-MODIFIED:20240403T021235Z
UID:6263-1716487200-1716501600@anchorboatclub.net
SUMMARY:Bocce Night
DESCRIPTION:
URL:https://anchorboatclub.net/event/bocce-night-3/
LOCATION:Anchor Boat Club\, 407 East Lake Drive\, Springfield\, IL\, 62712\, United States
END:VEVENT
BEGIN:VEVENT
DTSTART;TZID=America/Chicago:20240516T180000
DTEND;TZID=America/Chicago:20240516T220000
DTSTAMP:20260425T064515
CREATED:20240403T021157Z
LAST-MODIFIED:20240403T021157Z
UID:6261-1715882400-1715896800@anchorboatclub.net
SUMMARY:Bocce Night
DESCRIPTION:
URL:https://anchorboatclub.net/event/bocce-night-2/
LOCATION:Anchor Boat Club\, 407 East Lake Drive\, Springfield\, IL\, 62712\, United States
END:VEVENT
BEGIN:VEVENT
DTSTART;TZID=America/Chicago:20240509T180000
DTEND;TZID=America/Chicago:20240509T220000
DTSTAMP:20260425T064515
CREATED:20240403T020915Z
LAST-MODIFIED:20240403T020915Z
UID:6259-1715277600-1715292000@anchorboatclub.net
SUMMARY:Bocce Night
DESCRIPTION:
URL:https://anchorboatclub.net/event/bocce-night/
LOCATION:Anchor Boat Club\, 407 East Lake Drive\, Springfield\, IL\, 62712\, United States
END:VEVENT
BEGIN:VEVENT
DTSTART;TZID=America/Chicago:20240507T190000
DTEND;TZID=America/Chicago:20240507T200000
DTSTAMP:20260425T064515
CREATED:20240403T020417Z
LAST-MODIFIED:20240403T020417Z
UID:6255-1715108400-1715112000@anchorboatclub.net
SUMMARY:Membership Meeting
DESCRIPTION:
URL:https://anchorboatclub.net/event/membership-meeting-2/
LOCATION:Anchor Boat Club\, 407 East Lake Drive\, Springfield\, IL\, 62712\, United States
END:VEVENT
BEGIN:VEVENT
DTSTART;VALUE=DATE:20240504
DTEND;VALUE=DATE:20240505
DTSTAMP:20260425T064515
CREATED:20240207T031709Z
LAST-MODIFIED:20240207T031758Z
UID:6191-1714780800-1714867199@anchorboatclub.net
SUMMARY:Derby Day / Cinco De Mayo Party
DESCRIPTION:Hours to be announced…
URL:https://anchorboatclub.net/event/derby-day-cinco-de-mayo-party/
LOCATION:Anchor Boat Club\, 407 East Lake Drive\, Springfield\, IL\, 62712\, United States
END:VEVENT
BEGIN:VEVENT
DTSTART;TZID=America/Chicago:20240430T190000
DTEND;TZID=America/Chicago:20240430T200000
DTSTAMP:20260425T064515
CREATED:20240403T020313Z
LAST-MODIFIED:20240403T020313Z
UID:6253-1714503600-1714507200@anchorboatclub.net
SUMMARY:Officer's Meeting
DESCRIPTION:
URL:https://anchorboatclub.net/event/officers-meeting-2/
LOCATION:Anchor Boat Club\, 407 East Lake Drive\, Springfield\, IL\, 62712\, United States
END:VEVENT
BEGIN:VEVENT
DTSTART;TZID=America/Chicago:20240426T183000
DTEND;TZID=America/Chicago:20240426T200000
DTSTAMP:20260425T064515
CREATED:20240403T020042Z
LAST-MODIFIED:20240403T020042Z
UID:6251-1714156200-1714161600@anchorboatclub.net
SUMMARY:Queen of Hearts Drawing
DESCRIPTION:
URL:https://anchorboatclub.net/event/queen-of-hearts-drawing-11/
LOCATION:Anchor Boat Club\, 407 East Lake Drive\, Springfield\, IL\, 62712\, United States
END:VEVENT
BEGIN:VEVENT
DTSTART;TZID=America/Chicago:20240420T120000
DTEND;TZID=America/Chicago:20240420T170000
DTSTAMP:20260425T064515
CREATED:20240317T015305Z
LAST-MODIFIED:20240317T015305Z
UID:6232-1713614400-1713632400@anchorboatclub.net
SUMMARY:Jeff Bridges Benefit Party
DESCRIPTION:On April 20th from noon to 5 pm\, there will be benefit for one of our members\, Jeff Bridges. Jeff is battling a rare form of cancer. There will be food\, silent auction and a raffle. The Facebook link to the event:  https://www.facebook.com/share/6oW3ZtYJzKe3Rg9y/?mibextid=WC7FNe \nIf you have questions or wish to donate to the silent auction\, please contact John Brust at 217-306-1121. We hope that you can come out and support our member during his battle against this cancer.
URL:https://anchorboatclub.net/event/jeff-bridges-benefit-party/
LOCATION:Anchor Boat Club\, 407 East Lake Drive\, Springfield\, IL\, 62712\, United States
END:VEVENT
BEGIN:VEVENT
DTSTART;TZID=America/Chicago:20240417T180000
DTEND;TZID=America/Chicago:20240417T210000
DTSTAMP:20260425T064515
CREATED:20240403T015814Z
LAST-MODIFIED:20240403T015814Z
UID:6246-1713376800-1713387600@anchorboatclub.net
SUMMARY:Lake Bocce League
DESCRIPTION:
URL:https://anchorboatclub.net/event/lake-bocce-league/
LOCATION:Anchor Boat Club\, 407 East Lake Drive\, Springfield\, IL\, 62712\, United States
END:VEVENT
BEGIN:VEVENT
DTSTART;TZID=America/Chicago:20240412T183000
DTEND;TZID=America/Chicago:20240412T200000
DTSTAMP:20260425T064515
CREATED:20240403T020001Z
LAST-MODIFIED:20240403T020005Z
UID:6249-1712946600-1712952000@anchorboatclub.net
SUMMARY:Queen of Hearts Drawing
DESCRIPTION:
URL:https://anchorboatclub.net/event/queen-of-hearts-drawing-10/
LOCATION:Anchor Boat Club\, 407 East Lake Drive\, Springfield\, IL\, 62712\, United States
END:VEVENT
BEGIN:VEVENT
DTSTART;VALUE=DATE:20240406
DTEND;VALUE=DATE:20240407
DTSTAMP:20260425T064515
CREATED:20240207T031554Z
LAST-MODIFIED:20240207T031554Z
UID:6189-1712361600-1712447999@anchorboatclub.net
SUMMARY:ABC Membership Appreciation Party
DESCRIPTION:Hours to be announced…
URL:https://anchorboatclub.net/event/abc-membership-appreciation-party/
LOCATION:Anchor Boat Club\, 407 East Lake Drive\, Springfield\, IL\, 62712\, United States
END:VEVENT
BEGIN:VEVENT
DTSTART;TZID=America/Chicago:20240402T190000
DTEND;TZID=America/Chicago:20240402T200000
DTSTAMP:20260425T064515
CREATED:20240228T014535Z
LAST-MODIFIED:20240228T014621Z
UID:6215-1712084400-1712088000@anchorboatclub.net
SUMMARY:ABC April 2024 Membership Meeting
DESCRIPTION:
URL:https://anchorboatclub.net/event/abc-membership-meeting/
LOCATION:Anchor Boat Club\, 407 East Lake Drive\, Springfield\, IL\, 62712\, United States
END:VEVENT
BEGIN:VEVENT
DTSTART;TZID=America/Chicago:20240326T190000
DTEND;TZID=America/Chicago:20240326T200000
DTSTAMP:20260425T064515
CREATED:20240228T015045Z
LAST-MODIFIED:20240228T015052Z
UID:6222-1711479600-1711483200@anchorboatclub.net
SUMMARY:ABC March 2024 Officer's Meeting
DESCRIPTION:
URL:https://anchorboatclub.net/event/abc-march-2024-officers-meeting/
LOCATION:Anchor Boat Club\, 407 East Lake Drive\, Springfield\, IL\, 62712\, United States
END:VEVENT
BEGIN:VEVENT
DTSTART;TZID=America/Chicago:20240323T110000
DTEND;TZID=America/Chicago:20240323T130000
DTSTAMP:20260425T064515
CREATED:20240207T031433Z
LAST-MODIFIED:20240222T182225Z
UID:6187-1711191600-1711198800@anchorboatclub.net
SUMMARY:Easter Party
DESCRIPTION:MEMBERS & GUESTS ONLY. The Kids Easter party will be held on Saturday March 23rd from 11am-1pm. There will be crafts\, food\, an egg hunt and a visit from the Easter bunny. Always a fun event! \nIf you are planning to attend the event\, please sign up at the club or text Michelle at 217-415-4038. This helps us get an accurate count of how many kids there will be and their ages.
URL:https://anchorboatclub.net/event/easter-party/
LOCATION:Anchor Boat Club\, 407 East Lake Drive\, Springfield\, IL\, 62712\, United States
END:VEVENT
BEGIN:VEVENT
DTSTART;TZID=America/Chicago:20240305T190000
DTEND;TZID=America/Chicago:20240305T200000
DTSTAMP:20260425T064515
CREATED:20231207T043713Z
LAST-MODIFIED:20231207T043713Z
UID:6153-1709665200-1709668800@anchorboatclub.net
SUMMARY:March 2024 Membership Meeting
DESCRIPTION:
URL:https://anchorboatclub.net/event/march-2024-membership-meeting/
LOCATION:Anchor Boat Club\, 407 East Lake Drive\, Springfield\, IL\, 62712\, United States
END:VEVENT
BEGIN:VEVENT
DTSTART;VALUE=DATE:20240303
DTEND;VALUE=DATE:20240304
DTSTAMP:20260425T064515
CREATED:20231207T042744Z
LAST-MODIFIED:20240219T201231Z
UID:6134-1709424000-1709510399@anchorboatclub.net
SUMMARY:Lake Council of Clubs Chili Cookoffs - Championships
DESCRIPTION:
URL:https://anchorboatclub.net/event/lake-council-of-clubs-chili-cookoffs-championships/
LOCATION:Prop Club\, 264 Maple Grove Ln\, Springfield\, IL\, 62712\, United States
END:VEVENT
BEGIN:VEVENT
DTSTART;TZID=America/Chicago:20240227T190000
DTEND;TZID=America/Chicago:20240227T200000
DTSTAMP:20260425T064515
CREATED:20231207T043953Z
LAST-MODIFIED:20231207T043953Z
UID:6157-1709060400-1709064000@anchorboatclub.net
SUMMARY:February 2024 Officers Meeting
DESCRIPTION:
URL:https://anchorboatclub.net/event/february-2024-officers-meeting-2/
LOCATION:Anchor Boat Club\, 407 East Lake Drive\, Springfield\, IL\, 62712\, United States
END:VEVENT
BEGIN:VEVENT
DTSTART;TZID=America/Chicago:20240223T173000
DTEND;TZID=America/Chicago:20240223T193000
DTSTAMP:20260425T064515
CREATED:20240129T001410Z
LAST-MODIFIED:20240129T001410Z
UID:6172-1708709400-1708716600@anchorboatclub.net
SUMMARY:Fish Fry at the ABC
DESCRIPTION:
URL:https://anchorboatclub.net/event/fish-fry-at-the-abc-2/
LOCATION:Anchor Boat Club\, 407 East Lake Drive\, Springfield\, IL\, 62712\, United States
END:VEVENT
END:VCALENDAR