BEGIN:VCALENDAR
VERSION:2.0
PRODID:-//Anchor Boat Club - ECPv6.15.19//NONSGML v1.0//EN
CALSCALE:GREGORIAN
METHOD:PUBLISH
X-WR-CALNAME:Anchor Boat Club
X-ORIGINAL-URL:https://anchorboatclub.net
X-WR-CALDESC:Events for Anchor Boat Club
REFRESH-INTERVAL;VALUE=DURATION:PT1H
X-Robots-Tag:noindex
X-PUBLISHED-TTL:PT1H
BEGIN:VTIMEZONE
TZID:America/Chicago
BEGIN:DAYLIGHT
TZOFFSETFROM:-0600
TZOFFSETTO:-0500
TZNAME:CDT
DTSTART:20220313T080000
END:DAYLIGHT
BEGIN:STANDARD
TZOFFSETFROM:-0500
TZOFFSETTO:-0600
TZNAME:CST
DTSTART:20221106T070000
END:STANDARD
BEGIN:DAYLIGHT
TZOFFSETFROM:-0600
TZOFFSETTO:-0500
TZNAME:CDT
DTSTART:20230312T080000
END:DAYLIGHT
BEGIN:STANDARD
TZOFFSETFROM:-0500
TZOFFSETTO:-0600
TZNAME:CST
DTSTART:20231105T070000
END:STANDARD
BEGIN:DAYLIGHT
TZOFFSETFROM:-0600
TZOFFSETTO:-0500
TZNAME:CDT
DTSTART:20240310T080000
END:DAYLIGHT
BEGIN:STANDARD
TZOFFSETFROM:-0500
TZOFFSETTO:-0600
TZNAME:CST
DTSTART:20241103T070000
END:STANDARD
END:VTIMEZONE
BEGIN:VEVENT
DTSTART;VALUE=DATE:20230527
DTEND;VALUE=DATE:20230528
DTSTAMP:20260425T055257
CREATED:20230327T002324Z
LAST-MODIFIED:20230327T002324Z
UID:5766-1685145600-1685231999@anchorboatclub.net
SUMMARY:Blessing of the Boats
DESCRIPTION:
URL:https://anchorboatclub.net/event/blessing-of-the-boats/
LOCATION:Elks Lodge\, 409 E Lake Drive\, Springfield\, IL\, 62712\, United States
END:VEVENT
BEGIN:VEVENT
DTSTART;TZID=America/Chicago:20230526T183000
DTEND;TZID=America/Chicago:20230526T200000
DTSTAMP:20260425T055257
CREATED:20230504T133627Z
LAST-MODIFIED:20230504T133627Z
UID:5860-1685125800-1685131200@anchorboatclub.net
SUMMARY:Queen of Hearts Drawing
DESCRIPTION:Tickets go on sale at 6:30pm; drawing at 8:00pm. Open to the Public!
URL:https://anchorboatclub.net/event/queen-of-hearts-drawing-4/
LOCATION:Anchor Boat Club\, 407 East Lake Drive\, Springfield\, IL\, 62712\, United States
END:VEVENT
BEGIN:VEVENT
DTSTART;TZID=America/Chicago:20230525T180000
DTEND;TZID=America/Chicago:20230525T220000
DTSTAMP:20260425T055257
CREATED:20230504T134009Z
LAST-MODIFIED:20230504T134009Z
UID:5868-1685037600-1685052000@anchorboatclub.net
SUMMARY:ABC Bocce League Night
DESCRIPTION:
URL:https://anchorboatclub.net/event/abc-bocce-league-night-5/
LOCATION:Anchor Boat Club\, 407 East Lake Drive\, Springfield\, IL\, 62712\, United States
END:VEVENT
BEGIN:VEVENT
DTSTART;TZID=America/Chicago:20230525T180000
DTEND;TZID=America/Chicago:20230525T220000
DTSTAMP:20260425T055257
CREATED:20230504T133925Z
LAST-MODIFIED:20230504T134213Z
UID:5866-1685037600-1685052000@anchorboatclub.net
SUMMARY:ABC Bocce League Night
DESCRIPTION:
URL:https://anchorboatclub.net/event/abc-bocce-league-night-4/
LOCATION:Anchor Boat Club\, 407 East Lake Drive\, Springfield\, IL\, 62712\, United States
END:VEVENT
BEGIN:VEVENT
DTSTART;TZID=America/Chicago:20230521T160000
DTEND;TZID=America/Chicago:20230521T190000
DTSTAMP:20260425T055257
CREATED:20230327T002237Z
LAST-MODIFIED:20230327T002237Z
UID:5764-1684684800-1684695600@anchorboatclub.net
SUMMARY:Sunday Funday
DESCRIPTION:
URL:https://anchorboatclub.net/event/sunday-funday/
LOCATION:Elks Lodge\, 409 E Lake Drive\, Springfield\, IL\, 62712\, United States
END:VEVENT
BEGIN:VEVENT
DTSTART;VALUE=DATE:20230520
DTEND;VALUE=DATE:20230521
DTSTAMP:20260425T055257
CREATED:20230327T002040Z
LAST-MODIFIED:20230327T002040Z
UID:5762-1684540800-1684627199@anchorboatclub.net
SUMMARY:Season Opener Party
DESCRIPTION:
URL:https://anchorboatclub.net/event/season-opener-party/
LOCATION:Ski & Boat Club\, 268 Maple Grove Lane\, Springfield\, 62712\, United States
END:VEVENT
BEGIN:VEVENT
DTSTART;TZID=America/Chicago:20230519T190000
DTEND;TZID=America/Chicago:20230519T220000
DTSTAMP:20260425T055257
CREATED:20230311T082222Z
LAST-MODIFIED:20230311T082222Z
UID:5707-1684522800-1684533600@anchorboatclub.net
SUMMARY:Summer Concert Series - Drew Cooper/Josh Holland
DESCRIPTION:
URL:https://anchorboatclub.net/event/summer-concert-series-drew-cooper-josh-holland/
LOCATION:Anchor Boat Club\, 407 East Lake Drive\, Springfield\, IL\, 62712\, United States
END:VEVENT
BEGIN:VEVENT
DTSTART;TZID=America/Chicago:20230518T180000
DTEND;TZID=America/Chicago:20230518T220000
DTSTAMP:20260425T055257
CREATED:20230504T133851Z
LAST-MODIFIED:20230504T133851Z
UID:5864-1684432800-1684447200@anchorboatclub.net
SUMMARY:ABC Bocce League Night
DESCRIPTION:
URL:https://anchorboatclub.net/event/abc-bocce-league-night-3/
LOCATION:Anchor Boat Club\, 407 East Lake Drive\, Springfield\, IL\, 62712\, United States
END:VEVENT
BEGIN:VEVENT
DTSTART;TZID=America/Chicago:20230517T180000
DTEND;TZID=America/Chicago:20230517T210000
DTSTAMP:20260425T055257
CREATED:20230327T001939Z
LAST-MODIFIED:20230327T001939Z
UID:5760-1684346400-1684357200@anchorboatclub.net
SUMMARY:Rumble Around the Lake
DESCRIPTION:
URL:https://anchorboatclub.net/event/rumble-around-the-lake/
LOCATION:Elks Lodge\, 409 E Lake Drive\, Springfield\, IL\, 62712\, United States
END:VEVENT
BEGIN:VEVENT
DTSTART;VALUE=DATE:20230514
DTEND;VALUE=DATE:20230515
DTSTAMP:20260425T055257
CREATED:20230327T001632Z
LAST-MODIFIED:20230327T001838Z
UID:5757-1684022400-1684108799@anchorboatclub.net
SUMMARY:Mother's Day Breakfast
DESCRIPTION:
URL:https://anchorboatclub.net/event/mothers-day-breakfast/
LOCATION:TRN Club\, 25 Lakewood Drive\, Chatham\, IL\, 62629\, United States
END:VEVENT
BEGIN:VEVENT
DTSTART;TZID=America/Chicago:20230513T190000
DTEND;TZID=America/Chicago:20230513T220000
DTSTAMP:20260425T055257
CREATED:20230504T133243Z
LAST-MODIFIED:20230504T133328Z
UID:5855-1684004400-1684015200@anchorboatclub.net
SUMMARY:Prequel to Summer Concert Kickoff / Burn the Note Party
DESCRIPTION:Tonight’s event kicks off the Anchor Boat Club’s Summer Concert series with 2FlightsDown on the stage!  We will also be holding a Burn the Note Party to help celebrate paying off the mortgage on the building early.  Drink and food options will be available.  Open to the Public!
URL:https://anchorboatclub.net/event/prequel-to-summer-concert-kickoff-burn-the-note-party/
LOCATION:Anchor Boat Club\, 407 East Lake Drive\, Springfield\, IL\, 62712\, United States
END:VEVENT
BEGIN:VEVENT
DTSTART;TZID=America/Chicago:20230512T183000
DTEND;TZID=America/Chicago:20230512T200000
DTSTAMP:20260425T055257
CREATED:20230504T133541Z
LAST-MODIFIED:20230504T133541Z
UID:5857-1683916200-1683921600@anchorboatclub.net
SUMMARY:Queen of Hearts Drawing
DESCRIPTION:Tickets go on sale at 6:30pm; drawing at 8:00pm. Open to the Public!
URL:https://anchorboatclub.net/event/queen-of-hearts-drawing-3/
LOCATION:Anchor Boat Club\, 407 East Lake Drive\, Springfield\, IL\, 62712\, United States
END:VEVENT
BEGIN:VEVENT
DTSTART;TZID=America/Chicago:20230511T180000
DTEND;TZID=America/Chicago:20230511T220000
DTSTAMP:20260425T055257
CREATED:20230504T133818Z
LAST-MODIFIED:20230504T133818Z
UID:5862-1683828000-1683842400@anchorboatclub.net
SUMMARY:ABC Bocce League Night
DESCRIPTION:
URL:https://anchorboatclub.net/event/abc-bocce-league-night-2/
LOCATION:Anchor Boat Club\, 407 East Lake Drive\, Springfield\, IL\, 62712\, United States
END:VEVENT
BEGIN:VEVENT
DTSTART;TZID=America/Chicago:20230510T180000
DTEND;TZID=America/Chicago:20230510T220000
DTSTAMP:20260425T055257
CREATED:20230504T132719Z
LAST-MODIFIED:20230504T133735Z
UID:5851-1683741600-1683756000@anchorboatclub.net
SUMMARY:Bocce "Lake League" Night
DESCRIPTION:
URL:https://anchorboatclub.net/event/bocce-lake-league-night/
LOCATION:Anchor Boat Club\, 407 East Lake Drive\, Springfield\, IL\, 62712\, United States
END:VEVENT
BEGIN:VEVENT
DTSTART;VALUE=DATE:20230506
DTEND;VALUE=DATE:20230507
DTSTAMP:20260425T055257
CREATED:20230327T001355Z
LAST-MODIFIED:20230327T001355Z
UID:5753-1683331200-1683417599@anchorboatclub.net
SUMMARY:Bags Tournament / Kentucky Derby Party
DESCRIPTION:
URL:https://anchorboatclub.net/event/bags-tournament-kentucky-derby-party/
LOCATION:Lake Press Club\, 13 Club Area\, Springfield\, IL\, 62712\, United States
END:VEVENT
BEGIN:VEVENT
DTSTART;TZID=America/Chicago:20230502T190000
DTEND;TZID=America/Chicago:20230502T200000
DTSTAMP:20260425T055257
CREATED:20230312T015903Z
LAST-MODIFIED:20230312T015903Z
UID:5721-1683054000-1683057600@anchorboatclub.net
SUMMARY:May 2023 Membership Meeting
DESCRIPTION:
URL:https://anchorboatclub.net/event/may-2023-membership-meeting/
LOCATION:Anchor Boat Club\, 407 East Lake Drive\, Springfield\, IL\, 62712\, United States
END:VEVENT
BEGIN:VEVENT
DTSTART;TZID=America/Chicago:20230429T090000
DTEND;TZID=America/Chicago:20230429T120000
DTSTAMP:20260425T055257
CREATED:20230327T001122Z
LAST-MODIFIED:20230327T001122Z
UID:5750-1682758800-1682769600@anchorboatclub.net
SUMMARY:Lake Clean-Up
DESCRIPTION:
URL:https://anchorboatclub.net/event/lake-clean-up/
LOCATION:Springfield Marina
END:VEVENT
BEGIN:VEVENT
DTSTART;TZID=America/Chicago:20230425T190000
DTEND;TZID=America/Chicago:20230425T220000
DTSTAMP:20260425T055257
CREATED:20230312T015405Z
LAST-MODIFIED:20230312T015405Z
UID:5719-1682449200-1682460000@anchorboatclub.net
SUMMARY:April 2023 Officer's Meeting
DESCRIPTION:
URL:https://anchorboatclub.net/event/april-2023-officers-meeting/
LOCATION:Anchor Boat Club\, 407 East Lake Drive\, Springfield\, IL\, 62712\, United States
END:VEVENT
BEGIN:VEVENT
DTSTART;VALUE=DATE:20230422
DTEND;VALUE=DATE:20230423
DTSTAMP:20260425T055257
CREATED:20230327T000955Z
LAST-MODIFIED:20230327T001033Z
UID:5747-1682121600-1682207999@anchorboatclub.net
SUMMARY:"Foolin Around the Lake"
DESCRIPTION:
URL:https://anchorboatclub.net/event/foolin-around-the-lake/
LOCATION:Sangamo Surf & Clubs
END:VEVENT
BEGIN:VEVENT
DTSTART;TZID=America/Chicago:20230415T190000
DTEND;TZID=America/Chicago:20230415T213000
DTSTAMP:20260425T055257
CREATED:20230305T180213Z
LAST-MODIFIED:20230305T180213Z
UID:5701-1681585200-1681594200@anchorboatclub.net
SUMMARY:ABC Trivia Night
DESCRIPTION:Open to the Public! $10/player. Max 8 players per team/table.  10 rounds / 10 questions each round.  Mulligans – $20 for 10.  1st place team – $160\, 2nd place – $120.  Players welcome to bring food but drinks must be purchased at the bar. \nBring your thinking caps and be prepared to have some fun!
URL:https://anchorboatclub.net/event/abc-trivia-night/
LOCATION:Anchor Boat Club\, 407 East Lake Drive\, Springfield\, IL\, 62712\, United States
END:VEVENT
BEGIN:VEVENT
DTSTART;TZID=America/Chicago:20230415T090000
DTEND;TZID=America/Chicago:20230415T120000
DTSTAMP:20260425T055257
CREATED:20230322T013501Z
LAST-MODIFIED:20230322T013501Z
UID:5741-1681549200-1681560000@anchorboatclub.net
SUMMARY:Grounds “Spring Cleaning Day”
DESCRIPTION:
URL:https://anchorboatclub.net/event/grounds-spring-cleaning-day/
LOCATION:Anchor Boat Club\, 407 East Lake Drive\, Springfield\, IL\, 62712\, United States
END:VEVENT
BEGIN:VEVENT
DTSTART;TZID=America/Chicago:20230404T190000
DTEND;TZID=America/Chicago:20230404T200000
DTSTAMP:20260425T055257
CREATED:20230312T014300Z
LAST-MODIFIED:20230312T014300Z
UID:5717-1680634800-1680638400@anchorboatclub.net
SUMMARY:April 2023 Membership Meeting
DESCRIPTION:
URL:https://anchorboatclub.net/event/april-2023-membership-meeting/
LOCATION:Anchor Boat Club\, 407 East Lake Drive\, Springfield\, IL\, 62712\, United States
END:VEVENT
BEGIN:VEVENT
DTSTART;TZID=America/Chicago:20230401T110000
DTEND;TZID=America/Chicago:20230401T130000
DTSTAMP:20260425T055257
CREATED:20230305T175744Z
LAST-MODIFIED:20230305T175744Z
UID:5698-1680346800-1680354000@anchorboatclub.net
SUMMARY:ABC Kids Easter Party
DESCRIPTION:MEMBERS & GUESTS ONLY. The Kids Easter party will be held on Saturday April 1st from 11am-1pm. \nThere will be crafts and face painting for the kids as well as an egg hunt and a visit from the Easter bunny. Always a fun event!
URL:https://anchorboatclub.net/event/abc-kids-easter-party/
LOCATION:Anchor Boat Club\, 407 East Lake Drive\, Springfield\, IL\, 62712\, United States
END:VEVENT
BEGIN:VEVENT
DTSTART;VALUE=DATE:20230401
DTEND;VALUE=DATE:20230402
DTSTAMP:20260425T055257
CREATED:20230327T000652Z
LAST-MODIFIED:20230327T000817Z
UID:5744-1680307200-1680393599@anchorboatclub.net
SUMMARY:NCAA Final 4 Party
DESCRIPTION:
URL:https://anchorboatclub.net/event/ncaa-final-4-party/
LOCATION:Ski & Boat Club\, 268 Maple Grove Lane\, Springfield\, 62712\, United States
END:VEVENT
BEGIN:VEVENT
DTSTART;TZID=America/Chicago:20230331T173000
DTEND;TZID=America/Chicago:20230331T193000
DTSTAMP:20260425T055257
CREATED:20230305T174523Z
LAST-MODIFIED:20230305T174523Z
UID:5691-1680283800-1680291000@anchorboatclub.net
SUMMARY:Fish FRY-DAY
DESCRIPTION:Open to the Public!  Serving starts at 5:30pm.
URL:https://anchorboatclub.net/event/fish-fry-day-4/
LOCATION:Anchor Boat Club\, 407 East Lake Drive\, Springfield\, IL\, 62712\, United States
END:VEVENT
BEGIN:VEVENT
DTSTART;TZID=America/Chicago:20230328T190000
DTEND;TZID=America/Chicago:20230328T200000
DTSTAMP:20260425T055257
CREATED:20230305T175206Z
LAST-MODIFIED:20230305T175303Z
UID:5696-1680030000-1680033600@anchorboatclub.net
SUMMARY:March 2023 Officer's Meeting
DESCRIPTION:ABC Officers & Chairs
URL:https://anchorboatclub.net/event/march-2023-officers-meeting/
LOCATION:Anchor Boat Club\, 407 East Lake Drive\, Springfield\, IL\, 62712\, United States
END:VEVENT
BEGIN:VEVENT
DTSTART;TZID=America/Chicago:20230324T183000
DTEND;TZID=America/Chicago:20230324T200000
DTSTAMP:20260425T055257
CREATED:20230305T174702Z
LAST-MODIFIED:20230305T174702Z
UID:5694-1679682600-1679688000@anchorboatclub.net
SUMMARY:Queen of Hearts Drawing
DESCRIPTION:That’s right…2nd and 4th Fridays at the Anchor Boat Club! Tickets go on sale around 6:30pm\, Drawing at 8:00pm. Come out and join the festivities\, enjoy a cold drink\, and win some money! \nAnyone interested in putting on a simple food service that night or any Queen Drawing night\, please contact John Finnell at johnfinnell@comcast.net.
URL:https://anchorboatclub.net/event/queen-of-hearts-drawing-2/
LOCATION:Anchor Boat Club\, 407 East Lake Drive\, Springfield\, IL\, 62712\, United States
END:VEVENT
BEGIN:VEVENT
DTSTART;TZID=America/Chicago:20230324T173000
DTEND;TZID=America/Chicago:20230324T193000
DTSTAMP:20260425T055257
CREATED:20230305T174413Z
LAST-MODIFIED:20230305T174437Z
UID:5689-1679679000-1679686200@anchorboatclub.net
SUMMARY:Fish FRY-DAY
DESCRIPTION:Open to the Public!  Serving starts at 5:30pm.
URL:https://anchorboatclub.net/event/fish-fry-day-3/
LOCATION:Anchor Boat Club\, 407 East Lake Drive\, Springfield\, IL\, 62712\, United States
END:VEVENT
BEGIN:VEVENT
DTSTART;TZID=America/Chicago:20230317T173000
DTEND;TZID=America/Chicago:20230317T193000
DTSTAMP:20260425T055257
CREATED:20230305T174306Z
LAST-MODIFIED:20230305T174306Z
UID:5687-1679074200-1679081400@anchorboatclub.net
SUMMARY:Fish FRY-DAY
DESCRIPTION:Open to the Public!  Serving starts at 5:30pm.
URL:https://anchorboatclub.net/event/fish-fry-day-2/
LOCATION:Anchor Boat Club\, 407 East Lake Drive\, Springfield\, IL\, 62712\, United States
END:VEVENT
BEGIN:VEVENT
DTSTART;TZID=America/Chicago:20230310T183000
DTEND;TZID=America/Chicago:20230310T200000
DTSTAMP:20260425T055257
CREATED:20230305T173937Z
LAST-MODIFIED:20230305T174026Z
UID:5684-1678473000-1678478400@anchorboatclub.net
SUMMARY:Queen of Hearts Drawing
DESCRIPTION:That’s right…2nd and 4th Fridays at the Anchor Boat Club! Tickets go on sale around 6:30pm\, Drawing at 8:00pm. Come out and join the festivities\, enjoy a cold drink\, and win some money! \nAnyone interested in putting on a simple food service that night or any Queen Drawing night\, please contact John Finnell at johnfinnell@comcast.net.
URL:https://anchorboatclub.net/event/queen-of-hearts-drawing/
LOCATION:Anchor Boat Club\, 407 East Lake Drive\, Springfield\, IL\, 62712\, United States
END:VEVENT
END:VCALENDAR