BEGIN:VCALENDAR
VERSION:2.0
PRODID:-//Anchor Boat Club - ECPv6.15.19//NONSGML v1.0//EN
CALSCALE:GREGORIAN
METHOD:PUBLISH
X-WR-CALNAME:Anchor Boat Club
X-ORIGINAL-URL:https://anchorboatclub.net
X-WR-CALDESC:Events for Anchor Boat Club
REFRESH-INTERVAL;VALUE=DURATION:PT1H
X-Robots-Tag:noindex
X-PUBLISHED-TTL:PT1H
BEGIN:VTIMEZONE
TZID:America/Chicago
BEGIN:DAYLIGHT
TZOFFSETFROM:-0600
TZOFFSETTO:-0500
TZNAME:CDT
DTSTART:20230312T080000
END:DAYLIGHT
BEGIN:STANDARD
TZOFFSETFROM:-0500
TZOFFSETTO:-0600
TZNAME:CST
DTSTART:20231105T070000
END:STANDARD
BEGIN:DAYLIGHT
TZOFFSETFROM:-0600
TZOFFSETTO:-0500
TZNAME:CDT
DTSTART:20240310T080000
END:DAYLIGHT
BEGIN:STANDARD
TZOFFSETFROM:-0500
TZOFFSETTO:-0600
TZNAME:CST
DTSTART:20241103T070000
END:STANDARD
BEGIN:DAYLIGHT
TZOFFSETFROM:-0600
TZOFFSETTO:-0500
TZNAME:CDT
DTSTART:20250309T080000
END:DAYLIGHT
BEGIN:STANDARD
TZOFFSETFROM:-0500
TZOFFSETTO:-0600
TZNAME:CST
DTSTART:20251102T070000
END:STANDARD
END:VTIMEZONE
BEGIN:VEVENT
DTSTART;TZID=America/Chicago:20240420T120000
DTEND;TZID=America/Chicago:20240420T170000
DTSTAMP:20260425T054631
CREATED:20240317T015305Z
LAST-MODIFIED:20240317T015305Z
UID:6232-1713614400-1713632400@anchorboatclub.net
SUMMARY:Jeff Bridges Benefit Party
DESCRIPTION:On April 20th from noon to 5 pm\, there will be benefit for one of our members\, Jeff Bridges. Jeff is battling a rare form of cancer. There will be food\, silent auction and a raffle. The Facebook link to the event:  https://www.facebook.com/share/6oW3ZtYJzKe3Rg9y/?mibextid=WC7FNe \nIf you have questions or wish to donate to the silent auction\, please contact John Brust at 217-306-1121. We hope that you can come out and support our member during his battle against this cancer.
URL:https://anchorboatclub.net/event/jeff-bridges-benefit-party/
LOCATION:Anchor Boat Club\, 407 East Lake Drive\, Springfield\, IL\, 62712\, United States
END:VEVENT
END:VCALENDAR