BEGIN:VCALENDAR
VERSION:2.0
PRODID:-//Anchor Boat Club - ECPv6.15.19//NONSGML v1.0//EN
CALSCALE:GREGORIAN
METHOD:PUBLISH
X-ORIGINAL-URL:https://anchorboatclub.net
X-WR-CALDESC:Events for Anchor Boat Club
REFRESH-INTERVAL;VALUE=DURATION:PT1H
X-Robots-Tag:noindex
X-PUBLISHED-TTL:PT1H
BEGIN:VTIMEZONE
TZID:America/Chicago
BEGIN:DAYLIGHT
TZOFFSETFROM:-0600
TZOFFSETTO:-0500
TZNAME:CDT
DTSTART:20220313T080000
END:DAYLIGHT
BEGIN:STANDARD
TZOFFSETFROM:-0500
TZOFFSETTO:-0600
TZNAME:CST
DTSTART:20221106T070000
END:STANDARD
BEGIN:DAYLIGHT
TZOFFSETFROM:-0600
TZOFFSETTO:-0500
TZNAME:CDT
DTSTART:20230312T080000
END:DAYLIGHT
BEGIN:STANDARD
TZOFFSETFROM:-0500
TZOFFSETTO:-0600
TZNAME:CST
DTSTART:20231105T070000
END:STANDARD
BEGIN:DAYLIGHT
TZOFFSETFROM:-0600
TZOFFSETTO:-0500
TZNAME:CDT
DTSTART:20240310T080000
END:DAYLIGHT
BEGIN:STANDARD
TZOFFSETFROM:-0500
TZOFFSETTO:-0600
TZNAME:CST
DTSTART:20241103T070000
END:STANDARD
END:VTIMEZONE
BEGIN:VEVENT
DTSTART;TZID=America/Chicago:20230603T090000
DTEND;TZID=America/Chicago:20230603T160000
DTSTAMP:20260425T211125
CREATED:20230327T012214Z
LAST-MODIFIED:20230327T012214Z
UID:5775-1685782800-1685808000@anchorboatclub.net
SUMMARY:LLPS' Free Boat Checks
DESCRIPTION:
URL:https://anchorboatclub.net/event/llps-free-boat-checks/
LOCATION:Lindsey Bridge\, Lindsey Bridge\, Springfield\, IL\, 62712\, United States
END:VEVENT
BEGIN:VEVENT
DTSTART;TZID=America/Chicago:20230603T110000
DTEND;TZID=America/Chicago:20230603T150000
DTSTAMP:20260425T211125
CREATED:20230327T011840Z
LAST-MODIFIED:20230327T011840Z
UID:5773-1685790000-1685804400@anchorboatclub.net
SUMMARY:Touch a Truck
DESCRIPTION:
URL:https://anchorboatclub.net/event/touch-a-truck/
LOCATION:Ski & Boat Club\, 268 Maple Grove Lane\, Springfield\, 62712\, United States
END:VEVENT
END:VCALENDAR