BEGIN:VCALENDAR
VERSION:2.0
PRODID:-//Anchor Boat Club - ECPv6.15.19//NONSGML v1.0//EN
CALSCALE:GREGORIAN
METHOD:PUBLISH
X-ORIGINAL-URL:https://anchorboatclub.net
X-WR-CALDESC:Events for Anchor Boat Club
REFRESH-INTERVAL;VALUE=DURATION:PT1H
X-Robots-Tag:noindex
X-PUBLISHED-TTL:PT1H
BEGIN:VTIMEZONE
TZID:America/Chicago
BEGIN:DAYLIGHT
TZOFFSETFROM:-0600
TZOFFSETTO:-0500
TZNAME:CDT
DTSTART:20220313T080000
END:DAYLIGHT
BEGIN:STANDARD
TZOFFSETFROM:-0500
TZOFFSETTO:-0600
TZNAME:CST
DTSTART:20221106T070000
END:STANDARD
BEGIN:DAYLIGHT
TZOFFSETFROM:-0600
TZOFFSETTO:-0500
TZNAME:CDT
DTSTART:20230312T080000
END:DAYLIGHT
BEGIN:STANDARD
TZOFFSETFROM:-0500
TZOFFSETTO:-0600
TZNAME:CST
DTSTART:20231105T070000
END:STANDARD
BEGIN:DAYLIGHT
TZOFFSETFROM:-0600
TZOFFSETTO:-0500
TZNAME:CDT
DTSTART:20240310T080000
END:DAYLIGHT
BEGIN:STANDARD
TZOFFSETFROM:-0500
TZOFFSETTO:-0600
TZNAME:CST
DTSTART:20241103T070000
END:STANDARD
END:VTIMEZONE
BEGIN:VEVENT
DTSTART;TZID=America/Chicago:20230513T190000
DTEND;TZID=America/Chicago:20230513T220000
DTSTAMP:20260425T223632
CREATED:20230504T133243Z
LAST-MODIFIED:20230504T133328Z
UID:5855-1684004400-1684015200@anchorboatclub.net
SUMMARY:Prequel to Summer Concert Kickoff / Burn the Note Party
DESCRIPTION:Tonight’s event kicks off the Anchor Boat Club’s Summer Concert series with 2FlightsDown on the stage!  We will also be holding a Burn the Note Party to help celebrate paying off the mortgage on the building early.  Drink and food options will be available.  Open to the Public!
URL:https://anchorboatclub.net/event/prequel-to-summer-concert-kickoff-burn-the-note-party/
LOCATION:Anchor Boat Club\, 407 East Lake Drive\, Springfield\, IL\, 62712\, United States
END:VEVENT
END:VCALENDAR